BEGIN:VCALENDAR
VERSION:2.0
PRODID:-//ChamberMaster//Event Calendar 2.0//EN
METHOD:PUBLISH
X-PUBLISHED-TTL:P3D
REFRESH-INTERVAL:P3D
CALSCALE:GREGORIAN
BEGIN:VEVENT
DTSTART:20161118T140000Z
DTEND:20161219T213000Z
X-MICROSOFT-CDO-ALLDAYEVENT:FALSE
SUMMARY:Toys for Tots Drop Off
DESCRIPTION:Liberty Tax Lake Mary is proud to participate in Toys for Tots this year. Every child deserves to have a great Christmas. Now through December 18th\, please stop by and drop off your new unwrapped toy.
X-ALT-DESC;FMTTYPE=text/html:<span style="background-color:rgb(255\, 255\, 255)\; color:rgb(29\, 33\, 41)\; font-family:helvetica\,arial\,sans-serif\; font-size:14px">Liberty Tax Lake Mary is proud to participate in Toys for Tots this year. Every child deserves to have a great Christmas. Now through December 18th\, please stop by and drop off your new unwrapped toy.&nbsp\;</span>
LOCATION:Liberty Tax Lake Mary 3801 W. Lake Mary Blvd.\, Unit 173 Lake Mary\, FL 32746 Office: 321-233-3533 Located next to Home Goods & TJ Maxx Corner of Rinehart Road
UID:e.2138.5757
SEQUENCE:3
DTSTAMP:20260425T133649Z
URL:https://business.seminolebusiness.org/events/details/toys-for-tots-drop-off-5757
END:VEVENT

END:VCALENDAR
