BEGIN:VCALENDAR
VERSION:2.0
PRODID:-//ChamberMaster//Event Calendar 2.0//EN
METHOD:PUBLISH
X-PUBLISHED-TTL:P3D
REFRESH-INTERVAL:P3D
CALSCALE:GREGORIAN
BEGIN:VEVENT
DTSTART:20180821T183000Z
DTEND:20180821T193000Z
X-MICROSOFT-CDO-ALLDAYEVENT:FALSE
SUMMARY:Triple Your Leads and Double Your Close Rate with 5 Simple Steps to Turn Strangers into Clients!
DESCRIPTION:In this webinar\, Gargi Bhola is going to reveal 5 simple steps that turn visitors and followers into paying customers and clients.\n\n\n\nReady to capture interest\, ignite your engagement and boost your brand so your ideal clients see YOU as their ideal solution? You'll discover simple keys that have you to bring in more leads and new clients ... fast!\n\n\n\n\n\n----------------------------------------\n\n\n\nGargi Bhola has 15 years of experience in building and implementing marketing strategies that generate inbound leads for small and mid-sized businesses. Awareness is all the rage in marketing\, but what happens once your ideal client\, customer\, or reader become aware of you? Do they become a lead or just stay visitor? Gargi goes beyond simple awareness and focuses in on marketing strategies and tactics that lead to sales and conversions. As the Founder and Chief Marketing Strategist of Zen Marketing Studio\, she helps her clients effectively and effortlessly use generate leads with digital marketing.
X-ALT-DESC;FMTTYPE=text/html:<span style="color: rgb(0\, 0\, 0)\; font-family: arial\; font-size: 11pt\; background-color: transparent\;">In this webinar\, Gargi Bhola is going to reveal 5 simple steps that turn visitors and followers into paying customers and clients.</span><br />\n<br />\n<span style="color: rgb(0\, 0\, 0)\; font-family: arial\; font-size: 11pt\; background-color: transparent\;">Ready to capture interest\, ignite your engagement and boost your brand so your ideal clients see YOU as their ideal solution? You&#39\;ll discover simple keys that have you to bring in more leads and new clients ... fast!<br />\n<br />\n<br />\n----------------------------------------<br />\n<br />\nGargi Bhola has 15 years of experience in building and implementing marketing strategies that generate inbound leads for small and mid-sized businesses. Awareness is all the rage in marketing\, but what happens once your ideal client\, customer\, or reader become aware of you? Do they become a lead or just stay visitor? Gargi goes beyond simple awareness and focuses in on marketing strategies and tactics that lead to sales and conversions. As the Founder and Chief Marketing Strategist of Zen Marketing Studio\, she helps her clients effectively and effortlessly use generate leads with digital marketing. </span>
LOCATION:https://gargibhola.webinarninja.com/webinars/43559/register
UID:e.2138.9563
SEQUENCE:3
DTSTAMP:20260424T052845Z
URL:https://business.seminolebusiness.org/events/details/triple-your-leads-and-double-your-close-rate-with-5-simple-steps-to-turn-strangers-into-clients-9563
END:VEVENT

END:VCALENDAR
