BEGIN:VCALENDAR
VERSION:2.0
PRODID:-//ChamberMaster//Event Calendar 2.0//EN
METHOD:PUBLISH
X-PUBLISHED-TTL:P3D
REFRESH-INTERVAL:P3D
CALSCALE:GREGORIAN
BEGIN:VEVENT
DTSTART:20181020T220000Z
DTEND:20181021T020000Z
X-MICROSOFT-CDO-ALLDAYEVENT:FALSE
SUMMARY:Trouble at the Tropicabana
DESCRIPTION:Get into your "Best" 1950's Lucy and Ricky outfits! Or maybe you feel more like a " gangster"!\n\nIf you do then dress as Mr. Big and bring along your special lady friend as your trophy for the night!\n\nYour first drink on arrival is complimentary of Mr. Big himself!\n\nEnjoy dinner\, a show\, dancing\, drinking and...somebody will be ruthlessly "Murdered"!\n\nIt is your job to find out "who dunit".
X-ALT-DESC;FMTTYPE=text/html:Get into your &quot\;Best&quot\; 1950&#39\;s Lucy and Ricky outfits! Or maybe you feel more like a &quot\; gangster&quot\;!<br />\nIf you do then dress as Mr. Big and bring along your special lady friend as your trophy for the night!<br />\nYour first drink on arrival is complimentary of Mr. Big himself!<br />\nEnjoy dinner\, a show\, dancing\, drinking and...somebody will be ruthlessly <span style="color: rgb(178\, 34\, 34)\;"><strong>&quot\;Murdered&quot\;!</strong></span><br />\n<strong>It is your job to find out &quot\;who dunit&quot\;.</strong><br />\n&nbsp\;
LOCATION:Bahia Shrine Center 3101 E. Semoran Blvd. Apopka\, FL 32703
UID:e.2138.14796
SEQUENCE:3
DTSTAMP:20260424T023147Z
URL:https://business.seminolebusiness.org/events/details/trouble-at-the-tropicabana-14796
END:VEVENT

END:VCALENDAR
