BEGIN:VCALENDAR
VERSION:2.0
PRODID:-//ChamberMaster//Event Calendar 2.0//EN
METHOD:PUBLISH
X-PUBLISHED-TTL:P3D
REFRESH-INTERVAL:P3D
CALSCALE:GREGORIAN
BEGIN:VEVENT
DTSTART:20231021T190000Z
DTEND:20231021T220000Z
X-MICROSOFT-CDO-ALLDAYEVENT:FALSE
SUMMARY:Truck or Treat
DESCRIPTION:Come out to Reiter Park on Saturday\, October 21 from 3p-6p for truck or treating with a variety of trucks\, and other vehicles\, free candy for children\, bounce houses\, food vendors\, and much more.\n\n \n\nParking is located in the back parking lot of South Seminole Hospital\n\n \n\nIf you are interested in participating/sponsoring the Truck or Treat event please contact Ryan Rinaldo at 407-260-3497 or rrinaldo@longwoodfl.org.\n\n\n\nThis event has a large community turnout and is one of our most popular events for children and their families\n\n\n\nActivities Include:\n\n*Children's costume contest\n\n*Truck-or Treating\n\n*Bounce Houses\n\n*Games\n\n*Free candy for the children\n\n*Vendors\n\n*and much MORE\n\n\n\nChildren's Costume Contest (ages 0-12) \;\n\nPre-registration from 3:00 pm to 3:30 pm on Saturday\, October 23\, 2021\n\nAge group contest times:\n\n*0-1 year: 3:30 pm\n\n*2-5 years: 4:00 pm\n\n*6-8 years: 4:30 pm\n\npm\n\n*9-12 years: 5:00 pm
X-ALT-DESC;FMTTYPE=text/html:<div>Come out to Reiter Park on Saturday\, October 21 from 3p-6p for truck or treating with a variety of trucks\, and other vehicles\, free candy for children\, bounce houses\, food vendors\, and much more.<br />\n&nbsp\;</div>\n\n<div>Parking is located in the back parking lot of South Seminole Hospital<br />\n&nbsp\;</div>\n\n<div>If you are interested in participating/sponsoring the Truck or Treat event please contact Ryan Rinaldo at 407-260-3497 or rrinaldo@longwoodfl.org.</div>\n\n<div><br />\nThis event has a large community turnout and is one of our most popular events for children and their families</div>\n\n<div><br />\nActivities Include:<br />\n*Children&#39\;s costume contest<br />\n*Truck-or Treating<br />\n*Bounce Houses<br />\n*Games<br />\n*Free candy for the children<br />\n*Vendors<br />\n*and much MORE</div>\n\n<div><br />\nChildren&rsquo\;s Costume Contest (ages 0-12) \;<br />\nPre-registration from 3:00 pm to 3:30 pm on Saturday\, October 23\, 2021<br />\nAge group contest times:<br />\n*0-1 year: 3:30 pm<br />\n*2-5 years: 4:00 pm<br />\n*6-8 years: 4:30 pm<br />\npm<br />\n*9-12 years: 5:00 pm</div>\n
LOCATION:Reiter Park 311 West Warren Avenue Longwood\, FL 32750
UID:e.2138.33141
SEQUENCE:3
DTSTAMP:20260424T233422Z
URL:https://business.seminolebusiness.org/events/details/truck-or-treat-33141
END:VEVENT

END:VCALENDAR
