BEGIN:VCALENDAR
VERSION:2.0
PRODID:-//ChamberMaster//Event Calendar 2.0//EN
METHOD:PUBLISH
X-PUBLISHED-TTL:P3D
REFRESH-INTERVAL:P3D
CALSCALE:GREGORIAN
BEGIN:VEVENT
DTSTART:20170225T150000Z
DTEND:20170225T170000Z
X-MICROSOFT-CDO-ALLDAYEVENT:FALSE
SUMMARY:Try Hockey for FREE!
DESCRIPTION:Youth ages 4-12 are invited to learn the basics of playing ice hockey! No skating experience necessary!
X-ALT-DESC;FMTTYPE=text/html:Youth ages 4-12 are invited to learn the basics of playing ice hockey! No skating experience necessary!
LOCATION:RDV Sportsplex Ice Den 8701 Maitland Summit Blvd. Orlando\, FL 32810
UID:e.2138.6454
SEQUENCE:3
DTSTAMP:20260423T161638Z
URL:https://business.seminolebusiness.org/events/details/try-hockey-for-free-6454
END:VEVENT

END:VCALENDAR
