BEGIN:VCALENDAR
VERSION:2.0
PRODID:-//ChamberMaster//Event Calendar 2.0//EN
METHOD:PUBLISH
X-PUBLISHED-TTL:P3D
REFRESH-INTERVAL:P3D
CALSCALE:GREGORIAN
BEGIN:VEVENT
DTSTART:20160416T140000Z
DTEND:20160416T154500Z
X-MICROSOFT-CDO-ALLDAYEVENT:FALSE
SUMMARY:Try Ice Hockey For Free!
DESCRIPTION:Try Ice Hockey for Free is for youth ages 4-12! No ice skating experience necessary! Meet RDV Sportsplex Ice Den coaches and learn the basics of playing hockey!
X-ALT-DESC;FMTTYPE=text/html:Try Ice Hockey for Free is for youth ages 4-12! No ice skating experience necessary! Meet RDV Sportsplex Ice Den coaches and learn the basics of playing hockey!
LOCATION:RDV Sportsplex Ice Den - 8701 Maitland Summit Blvd. Orlando\, FL 32810
UID:e.2138.4378
SEQUENCE:3
DTSTAMP:20260426T013838Z
URL:https://business.seminolebusiness.org/events/details/try-ice-hockey-for-free-04-16-2016-4378
END:VEVENT

END:VCALENDAR
