BEGIN:VCALENDAR
VERSION:2.0
PRODID:-//ChamberMaster//Event Calendar 2.0//EN
METHOD:PUBLISH
X-PUBLISHED-TTL:P3D
REFRESH-INTERVAL:P3D
CALSCALE:GREGORIAN
BEGIN:VEVENT
DTSTART:20160716T160000Z
DTEND:20160716T173000Z
X-MICROSOFT-CDO-ALLDAYEVENT:FALSE
SUMMARY:Try Ice Hockey for FREE!
DESCRIPTION:Try Ice Hockey for FREE is for youth ages 4-12! Meet RDV Sportsplex Ice Den coaches and learn the basics of playing hockey! No skating experience necessary!
X-ALT-DESC;FMTTYPE=text/html:Try Ice Hockey for FREE is for youth ages 4-12! Meet RDV Sportsplex Ice Den coaches and learn the basics of playing hockey! No skating experience necessary!
LOCATION:RDV Sportsplex Ice Den - 8701 Maitland Summit Blvd. Orlando\, FL 32810
UID:e.2138.4531
SEQUENCE:3
DTSTAMP:20260425T210529Z
URL:https://business.seminolebusiness.org/events/details/try-ice-hockey-for-free-07-16-2016-4531
END:VEVENT

END:VCALENDAR
