BEGIN:VCALENDAR
VERSION:2.0
PRODID:-//ChamberMaster//Event Calendar 2.0//EN
METHOD:PUBLISH
X-PUBLISHED-TTL:P3D
REFRESH-INTERVAL:P3D
CALSCALE:GREGORIAN
BEGIN:VEVENT
DTSTART:20161112T150000Z
DTEND:20161112T170000Z
X-MICROSOFT-CDO-ALLDAYEVENT:FALSE
SUMMARY:Try Ice Hockey for Free
DESCRIPTION:Youth ages 4-12 are invited to learn the basics of playing ice hockey while meeting RDV Sportsplex Ice Den coaches!\n\nNO skating experience necessary!
X-ALT-DESC;FMTTYPE=text/html:Youth ages 4-12 are invited to learn the basics of playing ice hockey while meeting RDV Sportsplex Ice Den coaches!<br />\nNO skating experience necessary!
LOCATION:RDV Sportsplex Ice Den 8701 Maitland Summit Blvd. Orlando\, FL 32810
UID:e.2138.5746
SEQUENCE:3
DTSTAMP:20260425T151533Z
URL:https://business.seminolebusiness.org/events/details/try-ice-hockey-for-free-11-12-2016-5746
END:VEVENT

END:VCALENDAR
