BEGIN:VCALENDAR
VERSION:2.0
PRODID:-//ChamberMaster//Event Calendar 2.0//EN
METHOD:PUBLISH
X-PUBLISHED-TTL:P3D
REFRESH-INTERVAL:P3D
CALSCALE:GREGORIAN
BEGIN:VEVENT
DTSTART:20160925T150000Z
DTEND:20160925T170000Z
X-MICROSOFT-CDO-ALLDAYEVENT:FALSE
SUMMARY:Try Ice Hockey for Free!
DESCRIPTION:Try Ice Hockey for Free is for youth ages 4-12. Learn the basics of hockey while meeting RDV Sportsplex Ice Den coaches. No skating experience necessary!
X-ALT-DESC;FMTTYPE=text/html:Try Ice Hockey for Free is for youth ages 4-12. Learn the basics of hockey while meeting RDV Sportsplex Ice Den coaches. No skating experience necessary!
LOCATION:RDV Sportsplex Ice Den 8701 Maitland Summit Blvd. Orlando\, FL 32810
UID:e.2138.5105
SEQUENCE:3
DTSTAMP:20260425T175837Z
URL:https://business.seminolebusiness.org/events/details/try-ice-hockey-for-free-5105
END:VEVENT

END:VCALENDAR
