BEGIN:VCALENDAR
VERSION:2.0
PRODID:-//ChamberMaster//Event Calendar 2.0//EN
METHOD:PUBLISH
X-PUBLISHED-TTL:P3D
REFRESH-INTERVAL:P3D
CALSCALE:GREGORIAN
BEGIN:VEVENT
DTSTART:20161008T140000Z
DTEND:20161008T160000Z
X-MICROSOFT-CDO-ALLDAYEVENT:FALSE
SUMMARY:Try Ice Hockey for Free - GIRLS ONLY!
DESCRIPTION:Try Ice Hockey for Free - Girls Only is for girls ages 4-12. Learn the basics of ice hockey while meeting RDV Sportsplex Ice Den coaches. No skating experience necessary!
X-ALT-DESC;FMTTYPE=text/html:Try Ice Hockey for Free - Girls Only is for girls ages 4-12. Learn the basics of ice hockey while meeting RDV Sportsplex Ice Den coaches. No skating experience necessary!
LOCATION:RDV Sportsplex Ice Den 8701 Maitland Summit Blvd Orlando\, FL 32810
UID:e.2138.5108
SEQUENCE:3
DTSTAMP:20260425T165039Z
URL:https://business.seminolebusiness.org/events/details/try-ice-hockey-for-free-girls-only-5108
END:VEVENT

END:VCALENDAR
