BEGIN:VCALENDAR
VERSION:2.0
PRODID:-//ChamberMaster//Event Calendar 2.0//EN
METHOD:PUBLISH
X-PUBLISHED-TTL:P3D
REFRESH-INTERVAL:P3D
CALSCALE:GREGORIAN
BEGIN:VEVENT
DTSTART:20180522T130000Z
DTEND:20180522T140000Z
X-MICROSOFT-CDO-ALLDAYEVENT:FALSE
SUMMARY:UCP Book Buds Day 1
DESCRIPTION:Read your favorite book to UCP of Central Florida students at our Seminole\, West Orange\, or Pine Hills Campus. Participate in a book related activity or circle time!
X-ALT-DESC;FMTTYPE=text/html:<span style="color: rgb(68\, 68\, 68)\; font-family: arial\,helvetica\,sans-serif\; font-size: 14px\;">Read your favorite book to UCP of Central Florida students at our Seminole\, West Orange\, or Pine Hills Campus. Participate in a book related activity or circle time!</span>
LOCATION:UCP of Central Florida Seminole\, West Orange and Pine Hills Campuses (address can be found on our website)
UID:e.2138.8965
SEQUENCE:3
DTSTAMP:20260424T101703Z
URL:https://business.seminolebusiness.org/events/details/ucp-book-buds-day-1-8965
END:VEVENT

END:VCALENDAR
