BEGIN:VCALENDAR
VERSION:2.0
PRODID:-//ChamberMaster//Event Calendar 2.0//EN
METHOD:PUBLISH
X-PUBLISHED-TTL:P3D
REFRESH-INTERVAL:P3D
CALSCALE:GREGORIAN
BEGIN:VEVENT
DTSTART:20161021T123000Z
DTEND:20161021T133000Z
X-MICROSOFT-CDO-ALLDAYEVENT:FALSE
SUMMARY:UCP Faces Behind The Miracles Breakfast
DESCRIPTION:Join us for our annual  Faces Behind the Miracles Fundraising Breakfast. The Breakfast takes place on Friday\, October 21st from 8:30   9:30 a.m. at First Baptist Church of Orlando. \n\n \n\nThis event supports UCP's mission to grow the potential of all children and we would love for you to see all the amazing things we have accomplished so far.\n\n \n\nThere is no cost to attend and a complimentary breakfast is included. This will be a great opportunity for you to learn about what UCP is doing in our community. For any questions or to learn how you can become a table captain\, please contact Senior Director of Development\, Asma Addarrat at aaddarrat@ucpcfl.org
X-ALT-DESC;FMTTYPE=text/html:Join us for our annual &nbsp\;Faces Behind the Miracles Fundraising Breakfast. The Breakfast takes place on Friday\, October 21st from 8:30 &ndash\; 9:30 a.m. at First Baptist Church of Orlando.&nbsp\;<br />\n&nbsp\;<br />\nThis event supports UCP&rsquo\;s mission to grow the potential of all children and we would love for you to see all the amazing things we have accomplished so far.<br />\n&nbsp\;<br />\nThere is no cost to attend and a complimentary breakfast is included. This will be a great opportunity for you to learn about what UCP is doing in our community. For any questions or to learn how you can become a table captain\, please contact Senior Director of Development\, Asma Addarrat at <a href="mailto:aaddarrat@ucpcfl.org">aaddarrat@ucpcfl.org</a>
LOCATION:First Baptist Church of Orlando\, Faith Hall 3000 S. John Young Pkwy Orlando\, FL 32805 United States
UID:e.2138.4885
SEQUENCE:3
DTSTAMP:20260425T164719Z
URL:https://business.seminolebusiness.org/events/details/ucp-faces-behind-the-miracles-breakfast-4885
END:VEVENT

END:VCALENDAR
