BEGIN:VCALENDAR
VERSION:2.0
PRODID:-//ChamberMaster//Event Calendar 2.0//EN
METHOD:PUBLISH
X-PUBLISHED-TTL:P3D
REFRESH-INTERVAL:P3D
CALSCALE:GREGORIAN
BEGIN:VEVENT
DTSTART:20160418T210000Z
DTEND:20160418T230000Z
X-MICROSOFT-CDO-ALLDAYEVENT:FALSE
SUMMARY:UCP of Central Florida's Young Executive Committee Presents "A Toast to Brighter Futures" Mixer & Fundraising Event
DESCRIPTION:UCP of Central Florida's Young Executive Committee presents A Toast to Brighter Futures Mixer & Fundraising Event benefiting UCP's Summer Camp Scholarship Program on Monday\, April 18th from 5-7 PM at KASA Restaurant & Bar 183 S. Orange Ave. Orlando\, FL 32801. All you can drink wine and beer with light hors d'oeuvres and a split the pot 50/50 & prize raffle.  Tickets $20 advance purchase/$25 at the door.  For more information\, visit https://www.ucpcfl.org/event/a-toast-to-brighter-futures-mixer-fundraiser. 407-852-3369.
X-ALT-DESC;FMTTYPE=text/html:<p><span style="font-family:arial\,sans-serif">UCP of Central Florida&rsquo\;s Young Executive Committee presents <em>A Toast to Brighter Futures </em>Mixer &amp\; Fundraising Event benefiting UCP&rsquo\;s Summer Camp Scholarship Program on Monday\, April 18th from 5-7 PM at KASA Restaurant &amp\; Bar 183 S. Orange Ave. Orlando\, FL 32801. All you can drink wine and beer with light hors d&rsquo\;oeuvres and a split the pot 50/50 &amp\; prize raffle.&nbsp\; Tickets $20 advance purchase/$25 at the door.&nbsp\; For more information\, visit <a href="https://www.ucpcfl.org/event/a-toast-to-brighter-futures-mixer-fundraiser/">https://www.ucpcfl.org/event/a-toast-to-brighter-futures-mixer-fundraiser</a>. 407-852-3369.</span></p>\n
LOCATION:KASA Restaurant & Bar 183 S. Orange Ave. Orlando\, FL 32801
UID:e.2138.4397
SEQUENCE:3
DTSTAMP:20260426T014230Z
URL:https://business.seminolebusiness.org/events/details/ucp-of-central-florida-s-young-executive-committee-presents-a-toast-to-brighter-futures-mixer-fundraising-event-04-18-2016-4397
END:VEVENT

END:VCALENDAR
