BEGIN:VCALENDAR
VERSION:2.0
PRODID:-//ChamberMaster//Event Calendar 2.0//EN
METHOD:PUBLISH
X-PUBLISHED-TTL:P3D
REFRESH-INTERVAL:P3D
CALSCALE:GREGORIAN
BEGIN:VEVENT
DTSTART;VALUE=DATE:20230325
DTEND;VALUE=DATE:20230326
TRANSP:TRANSPARENT
X-MICROSOFT-CDO-ALLDAYEVENT:TRUE
SUMMARY:UCP's 30th Annual Gala - Night at the Museum
DESCRIPTION:Join UCP of Central Florida March 25th for its Annual Gala\, A Night at the Museum\, hosted at the Caribe Royale Orlando! Guests of our Poker Tournament and Gala have an opportunity to make it a weekend of fun by saving on their suite at the Caribe using our discounted link on our website https://www.ucpcfl.org/events/gala2023\nOUR AWARD RECIPIENTS\nFishback Dominick is the recipient of this year's Jack Halloway Star of Gratitude award.  This particular award is granted to businesses and individuals who embody ABC Fine Wine and Spirits founder Jack Halloway's philanthropic spirit. Fishback Dominick\, which dominates several areas of law practice\, has been an essential benefactor of UCP and is a key figure in the development of the UCP Healthy West Orange Campus. Fishback Dominick partners\, Kurt Ardaman and Daniel Langely have truly made a valuable impact in the UCP community and their presence in Winter Garden has positively influenced our mission. Kurt and Dan are familiar faces around the annual Poker Tournament that precedes the Gala\, and they played a great role in its growth.\n\n\n\nThe recipient of this year's Jackie Bailes Legacy Award is Attorney Douglas Stanford. The Jackie Bailes Legacy Award is named after Jack Halloway's Daughter\, Jackie Bailes\, and signifies the representation of her spirit of advocacy and giving back through certain individuals. Stanford has been a proud supporter of UCP and our mission for numerous years and has truly kept Jackie Bailes' dream alive with a strong commitment and dedication to our mission through his time\, talent\, and treasure. Stanford's devotion to UCP is identifiable through his contribution of legal advice and expertise\, and support with acquisitions for UCP of Central Florida.\n\n \nDONATE AN AUCTION ITEM!\n\nAnother way to support UCP of Central Florida during Gala weekend is by donating items to our annual silent auction. Make a donation to our auction and help us reach our event goal of more than $900\,000 to help further the mission of UCP of Central Florida. Be featured in auction signage\, our website listing\, and gain exposure to nearly 1\,000 guests representing the business and philanthropic community as well as online viewers of UCP's website.\n\nTo be included in all promotional opportunities\, your auction item must be received no later than March 5\, 2023. Contact Brandon Pettit at bpettit@ucpcfl.org today!
X-ALT-DESC;FMTTYPE=text/html:<div style="background:#eee\;border:1px solid #ccc\;padding:5px 10px\;"><span style="font-size:12px"><span style="font-family:tahoma">Join UCP of Central Florida March 25th for its Annual Gala\, A Night at the Museum\, hosted at the Caribe Royale Orlando!&nbsp\;<span style="color:rgb(0\, 0\, 0)">Guests of our Poker Tournament and Gala have an opportunity to make it a weekend of fun by saving on their suite at the Caribe using our discounted link on our website&nbsp\;</span>https://www.ucpcfl.org/events/gala2023</span></span>\n<h2 style="text-align:center">OUR AWARD RECIPIENTS</h2>\n<span style="font-size:12px"><span style="font-family:tahoma">Fishback Dominick is the recipient of this year&#39\;s Jack Halloway Star of Gratitude award.&nbsp\; This particular award is granted to businesses and individuals who embody ABC Fine Wine and Spirits founder Jack Halloway&rsquo\;s philanthropic spirit. Fishback Dominick\, which dominates several areas of law practice\, has been an essential benefactor of UCP and is a key figure in the development of the UCP Healthy West Orange Campus. Fishback Dominick partners\, Kurt Ardaman and Daniel Langely have truly made a valuable impact in the UCP community and their presence in Winter Garden has positively influenced our mission. Kurt and Dan are familiar faces around the annual Poker Tournament that precedes the Gala\, and they played a great role in its growth.<br />\n<br />\nThe recipient of this year&rsquo\;s Jackie Bailes Legacy Award is Attorney Douglas Stanford. The Jackie Bailes Legacy Award is named after Jack Halloway&rsquo\;s Daughter\, Jackie Bailes\, and signifies the representation of her spirit of advocacy and giving back through certain individuals. Stanford has been a proud supporter of UCP and our mission for numerous years and has truly kept Jackie Bailes&#39\; dream alive with a strong commitment and dedication to our mission through his time\, talent\, and treasure. Stanford&rsquo\;s devotion to UCP is identifiable through his contribution of legal advice and expertise\, and support with acquisitions for UCP of Central Florida.</span></span><br />\n&nbsp\;\n<h2 style="text-align:center">DONATE AN AUCTION ITEM!</h2>\n\n<p>Another way to support UCP of Central Florida during Gala weekend is by donating items to our annual silent auction. Make a donation to our auction and help us reach our event goal of more than $900\,000 to help further the mission of UCP of Central Florida. Be featured in auction signage\, our website listing\, and gain exposure to nearly 1\,000 guests representing the business and philanthropic community as well as online viewers of UCP&#39\;s website.</p>\n\n<p>To be included in all promotional opportunities\, your auction item must be received no later than March 5\, 2023. Contact Brandon Pettit at bpettit@ucpcfl.org today!</p>\n</div>\n
LOCATION:Caribe Royale Orlando\, 8101 World Center Dr.\, Orlando FL 32821
UID:e.2138.31860
SEQUENCE:3
DTSTAMP:20260425T111551Z
URL:https://business.seminolebusiness.org/events/details/ucp-s-30th-annual-gala-night-at-the-museum-31860
END:VEVENT

END:VCALENDAR
