BEGIN:VCALENDAR
VERSION:2.0
PRODID:-//ChamberMaster//Event Calendar 2.0//EN
METHOD:PUBLISH
X-PUBLISHED-TTL:P3D
REFRESH-INTERVAL:P3D
CALSCALE:GREGORIAN
BEGIN:VEVENT
DTSTART:20171206T140000Z
DTEND:20171206T170000Z
X-MICROSOFT-CDO-ALLDAYEVENT:FALSE
SUMMARY:UF/IFAS Central FL Housing Program: Down Payment Assistance Training for Professionals
DESCRIPTION:Become a G.E.M! (Gator Education Member)\n\nThis class will go over Federal\, State and local Down Payment Assistance (DPA) programs available to assist more clients and how the programs work.\n\nThis class is a certificate training and you will receive a certificate of completion and special designation as a G.E.M. in the professional Directory. The Certificate will be good for one year and must be updated by attending an updated DPA Class each year. The designation will show home buyers that you have an understanding of different DPA which is a huge benefit to the home buyer. Become a UF/IFAS Central Florida Housing Program G.E.M.!\n\n*Tax Deductible\n\nFor more information\, please contact:\n\nShanika Preston- Housing Counseling Program Manager\n\n407-665-5559\, SPreston4@ufl.edu
X-ALT-DESC;FMTTYPE=text/html:Become a G.E.M! (Gator Education Member)<br />\nThis class will go over Federal\, State and local&nbsp\;Down Payment Assistance&nbsp\;(DPA) programs available to assist more clients and how the programs work.<br />\nThis class is a certificate&nbsp\;training and you will receive a certificate of completion and special designation as a G.E.M.&nbsp\;in the professional Directory. The Certificate will be good for one year and must be updated by attending an updated&nbsp\;DPA Class each year. The designation will show home buyers that you have an understanding of different&nbsp\;DPA which is a huge benefit to the home buyer. Become a UF/IFAS Central Florida Housing Program G.E.M.!<br />\n*<strong>Tax D</strong><strong>eductible</strong><br />\nFor more information\, please contact:<br />\nShanika Preston- Housing Counseling Program Manager<br />\n407-665-5559\, <a href="mailto:SPreston4@ufl.edu" target="_blank"><span style="color:rgb(0\, 102\, 204)">SPreston4@ufl.edu</span></a><br />\n&nbsp\;
LOCATION:UF/IFAS Seminole County Extension Auditorium 250 W. County Home Road\, Sanford FL 32773
UID:e.2138.8304
SEQUENCE:3
DTSTAMP:20260424T112835Z
URL:https://business.seminolebusiness.org/events/details/uf-ifas-central-fl-housing-program-down-payment-assistance-training-8304
END:VEVENT

END:VCALENDAR
