BEGIN:VCALENDAR
VERSION:2.0
PRODID:-//ChamberMaster//Event Calendar 2.0//EN
METHOD:PUBLISH
X-PUBLISHED-TTL:P3D
REFRESH-INTERVAL:P3D
CALSCALE:GREGORIAN
BEGIN:VEVENT
DTSTART:20190516T220000Z
DTEND:20190516T233000Z
X-MICROSOFT-CDO-ALLDAYEVENT:FALSE
SUMMARY:Ultimate Guide to Your Golden Years
DESCRIPTION:Attn: Pre-Retirees and Retirees\n\nYou and a guest are invited to join us for a complimentary workshop at One Senior Place in Altamonte Springs at 6:00p.m. on Thursday\, May 16th to learn: how to save your house and money from the nursing facilities\, plan for long-term care in retirement\, about wills & trusts\, and more!
X-ALT-DESC;FMTTYPE=text/html:<p style="text-align: center\;"><strong>Attn: Pre-Retirees and Retirees</strong></p>\n\n<p style="text-align: center\;"><strong>You and a guest are invited to join us for a complimentary workshop at One Senior Place in Altamonte Springs at 6:00p.m. on Thursday\, May 16th to learn: how to save your house and money from the nursing facilities\, plan for long-term care in retirement\, about wills &amp\; trusts\, and more!</strong></p>\n
LOCATION:One Senior Place 715 Douglas Ave Altamonte Springs\, FL 32714
UID:e.2138.15149
SEQUENCE:3
DTSTAMP:20260422T081335Z
URL:https://business.seminolebusiness.org/events/details/ultimate-guide-to-your-golden-years-05-16-2019-15149
END:VEVENT

END:VCALENDAR
