BEGIN:VCALENDAR
VERSION:2.0
PRODID:-//ChamberMaster//Event Calendar 2.0//EN
METHOD:PUBLISH
X-PUBLISHED-TTL:P3D
REFRESH-INTERVAL:P3D
CALSCALE:GREGORIAN
BEGIN:VEVENT
DTSTART:20160825T133000Z
DTEND:20160825T153000Z
X-MICROSOFT-CDO-ALLDAYEVENT:FALSE
SUMMARY:Understanding the Basics of Online Marketing
DESCRIPTION:Learn the very basics of how companies are using the power of the Internet as a key component of the overall marketing strategy to market products\, enhance relationships with customers\, and build their brands online.  The seminar objectives will include a discussion of the various types of Online Marketing Techniques and their uses\, and why it is so important for small businesses to have a strong presence online.  In addition\, we will discuss identifying the target market\, and how to create positive relationships with customers.
X-ALT-DESC;FMTTYPE=text/html:Learn the very basics of how companies are using the power of the Internet as a key component of the overall marketing strategy to market products\, enhance relationships with customers\, and build their brands online.&nbsp\; The seminar objectives will include a discussion of the various types of Online Marketing Techniques and their uses\, and why it is so important for small businesses to have a strong presence online.&nbsp\; In addition\, we will discuss identifying the target market\, and how to create positive relationships with customers.
LOCATION:1445 Dolgner Place Sanford\, FL 32771
UID:e.2138.4782
SEQUENCE:3
DTSTAMP:20260425T192904Z
URL:https://business.seminolebusiness.org/events/details/understanding-the-basics-of-online-marketing-08-25-2016-4782
END:VEVENT

END:VCALENDAR
