BEGIN:VCALENDAR
VERSION:2.0
PRODID:-//ChamberMaster//Event Calendar 2.0//EN
METHOD:PUBLISH
X-PUBLISHED-TTL:P3D
REFRESH-INTERVAL:P3D
CALSCALE:GREGORIAN
BEGIN:VEVENT
DTSTART:20180416T220000Z
DTEND:20180417T000000Z
X-MICROSOFT-CDO-ALLDAYEVENT:FALSE
SUMMARY:United for a Purpose ( formerly known as Cocktails for a Cause)
DESCRIPTION:Come join us and get the chance to meet other Orlando professionals. There will be Heavy Hors'doeuvres and each person will receive 1 Drink Ticket.
X-ALT-DESC;FMTTYPE=text/html:Come join us and get the chance to meet other Orlando professionals. There will be Heavy Hors&#39\;doeuvres and each person will receive 1 Drink Ticket.<br />\n&nbsp\;
LOCATION:The Citrus CLub 255 South Orange Ave. Suite 1800 Orlando\, FL 32801
UID:e.2138.8783
SEQUENCE:3
DTSTAMP:20260424T120601Z
URL:https://business.seminolebusiness.org/events/details/united-for-a-purpose-formerly-known-as-cocktails-for-a-cause-8783
END:VEVENT

END:VCALENDAR
