BEGIN:VCALENDAR
VERSION:2.0
PRODID:-//ChamberMaster//Event Calendar 2.0//EN
METHOD:PUBLISH
X-PUBLISHED-TTL:P3D
REFRESH-INTERVAL:P3D
CALSCALE:GREGORIAN
BEGIN:VEVENT
DTSTART:20160914T230000Z
DTEND:20160915T010000Z
X-MICROSOFT-CDO-ALLDAYEVENT:FALSE
SUMMARY:Van Jones
DESCRIPTION:Van Jones has unique insight into America's turbulent political scene. He has worked closely with political players at all levels   and across the spectrum. On the left\, he has been allied with everyone from Richard Branson to movements\, such as Black Lives Matter. On the right\, he has campaigned to win criminal justice reform alongside Newt Gingrich and Koch Industries. Former President George W. Bush signed his first legislative proposal\, the Green Jobs Act. Then President Obama appointed him to be special advisor on green jobs. Most recently\, Jones was "on the ground" in Ferguson\, Charleston and Selma (for the 50th anniversary of the historic civil rights march there).  \n\n\n\nJones\, a civil rights leader\, former Obama White House advisor and CNN political correspondent\, is the author of two New York Times bestsellers\, The Green Collar Economy and Rebuild the Dream. Jones was named one of TIME magazine's 100 Most Influential People in 2009 and one of Fast Company's 12 Most Creative Minds on Earth. He also is the founder and president of Dream Corps\, an incubator\, platform and home for world-changing initiatives that empower the most vulnerable in our society.\n\n\n\nThe presentation will conclude with a Q&A period. A reception and book signing will immediately follow.
X-ALT-DESC;FMTTYPE=text/html:Van Jones has unique insight into America&rsquo\;s turbulent political scene. He has worked closely with political players at all levels &ndash\; and across the spectrum. On the left\, he has been allied with everyone from Richard Branson to movements\, such as Black Lives Matter. On the right\, he has campaigned to win criminal justice reform alongside Newt Gingrich and Koch Industries. Former President George W. Bush signed his first legislative proposal\, the Green Jobs Act. Then President Obama appointed him to be special advisor on green jobs. Most recently\, Jones was &quot\;on the ground&quot\; in Ferguson\, Charleston and Selma (for the 50th anniversary of the historic civil rights march there). &nbsp\;<br />\n<br />\nJones\, a civil rights leader\, former Obama White House advisor and CNN political correspondent\, is the author of two New York Times bestsellers\, The Green Collar Economy and Rebuild the Dream. Jones was named one of TIME magazine&#39\;s 100 Most Influential People in 2009 and one of Fast Company&#39\;s 12 Most Creative Minds on Earth. He also is the founder and president of Dream Corps\, an incubator\, platform and home for world-changing initiatives that empower the most vulnerable in our society.<br />\n<br />\nThe presentation will conclude with a Q&amp\;A period. A reception and book signing will immediately follow.
LOCATION:Seminole State College - Sanford/Lake Mary Campus Fine Arts Concert Hall (building G)\,
UID:e.2138.4862
SEQUENCE:3
DTSTAMP:20260425T175830Z
URL:https://business.seminolebusiness.org/events/details/van-jones-09-14-2016-4862
END:VEVENT

END:VCALENDAR
