BEGIN:VCALENDAR
VERSION:2.0
PRODID:-//ChamberMaster//Event Calendar 2.0//EN
METHOD:PUBLISH
X-PUBLISHED-TTL:P3D
REFRESH-INTERVAL:P3D
CALSCALE:GREGORIAN
BEGIN:VEVENT
DTSTART:20170614T120000Z
DTEND:20170614T170000Z
X-MICROSOFT-CDO-ALLDAYEVENT:FALSE
SUMMARY:Vascular Vein Centers 16th Birthday Open House and Meet & Greet
DESCRIPTION:Get a Leg Up on Your Health\n\nVascular Vein Centers has been serving Central Florida for 16 years\n\nJoin us for our Birthday Celebration at our Lake Mary office!\n\n\n\nThere will be Snacks & Prizes\n\nFREE Leg Vein Screenings\n\ncall to schedule (877) 244-8558
X-ALT-DESC;FMTTYPE=text/html:Get a Leg Up on Your Health<br />\nVascular Vein Centers has been serving Central Florida for 16 years<br />\nJoin us for our Birthday Celebration at our Lake Mary office<strong>!</strong><br />\n<br />\nThere will be Snacks &amp\; Prizes<br />\nFREE Leg Vein Screenings<br />\ncall to schedule (877) 244-8558
LOCATION:MedPlex at Lake Mary 4106 W. Lake Mary Blvd. Ste 325 Lake Mary\, Fl 32746
UID:e.2138.7581
SEQUENCE:3
DTSTAMP:20260423T223404Z
URL:https://business.seminolebusiness.org/events/details/vascular-vein-centers-16th-birthday-open-house-and-meet-greet-7581
END:VEVENT

END:VCALENDAR
