BEGIN:VCALENDAR
VERSION:2.0
PRODID:-//ChamberMaster//Event Calendar 2.0//EN
METHOD:PUBLISH
X-PUBLISHED-TTL:P3D
REFRESH-INTERVAL:P3D
CALSCALE:GREGORIAN
BEGIN:VEVENT
DTSTART:20260516T130000Z
DTEND:20260516T160000Z
X-MICROSOFT-CDO-ALLDAYEVENT:FALSE
SUMMARY:Vendor marketplace and Soca / Reggae Dance Fitness Class from Celebrity Content Creator
DESCRIPTION:Get ready to turn up the energy at Blaze It Up Dance Fitness on May 16th at J Garden Events! Experience an electrifying one-hour soca dance workout led by a Celebrity Fitness Instructor\, Actor\, and Author guaranteed to have you moving\, sweating\, and smiling from start to finish. Enjoy vibrant vibes with vendors on site\, great music\, and an atmosphere you won't want to miss. Call 407-864-784 or email info@jgardenvenue.com for more details!
X-ALT-DESC;FMTTYPE=text/html:Get ready to turn up the energy at <strong>Blaze It Up Dance Fitness</strong> on May 16th at J Garden Events! Experience an electrifying one-hour soca dance workout led by a Celebrity Fitness Instructor\, Actor\, and Author&mdash\;guaranteed to have you moving\, sweating\, and smiling from start to finish. Enjoy vibrant vibes with vendors on site\, great music\, and an atmosphere you won&rsquo\;t want to miss. Call 407-864-784 or email info@jgardenvenue.com for more details!
LOCATION:J Garden Events 1188 Commerce Park Drive Altamonte Springs FL 32714
UID:e.2138.42608
SEQUENCE:3
DTSTAMP:20260422T195040Z
URL:https://business.seminolebusiness.org/events/details/vendor-marketplace-and-soca-reggae-dance-fitness-class-from-celebrity-content-creator-42608
END:VEVENT

END:VCALENDAR
