BEGIN:VCALENDAR
VERSION:2.0
PRODID:-//ChamberMaster//Event Calendar 2.0//EN
METHOD:PUBLISH
X-PUBLISHED-TTL:P3D
REFRESH-INTERVAL:P3D
CALSCALE:GREGORIAN
BEGIN:VEVENT
DTSTART:20181109T123000Z
DTEND:20181109T140000Z
X-MICROSOFT-CDO-ALLDAYEVENT:FALSE
SUMMARY:Veteran's Day Salute
DESCRIPTION:Join local leaders and the Lake Mary Trailblazers at a kickoff and fundraising event for Phase II of the newly built Heritage Park!  All proceeds will go towards the completion of a First Responders/Veteran's Memorial within the park.  \n\n\n\nThere will also be an opportunity to leave your mark in the park by purchasing a personalized brick to be placed within the sidewalks that will surround the memorial!\n\n\n\nFor more information on the park please visit the website:\n\nhttp://www.lakemaryfl.com/parks-and-recreation/pages/heritage-park-and-veterans-memorial \n\n\n\nFREE light breakfast & refreshments will be served!
X-ALT-DESC;FMTTYPE=text/html:<span style="color: rgb(29\, 33\, 41)\; font-family: helvetica\,arial\,sans-serif\; font-size: 14px\;">Join local leaders and the Lake Mary Trailblazers at a kickoff and fundraising event for Phase II of the newly built Heritage Park!&nbsp\; All proceeds will go towards the completion of a First Responders/Veteran&#39\;s Memorial within the park.&nbsp\;&nbsp\;<br />\n<br />\nThere will also be an opportunity to <em><strong>leave your mark in the park</strong></em> by purchasing a personalized brick to be placed within the sidewalks that will surround the memorial!</span><br />\n<br />\n<span style="color: rgb(29\, 33\, 41)\; font-family: helvetica\,arial\,sans-serif\; font-size: 14px\;">For more information on the park please visit the website:</span><br />\n<a href="https://l.facebook.com/l.php?u=http%3A%2F%2Fwww.lakemaryfl.com%2Fparks-and-recreation%2Fpages%2Fheritage-park-and-veterans-memorial&amp\;h=AT0n8oqyPl1aKE3RD25rxuZAHeFC70VN_9o1Wz1r-i6fpbXzGa-bvB6Uw_kmrydCDfLFWNbYyRdqL9Kow4WDh7PQDYDne-dkRzriDAjwc8ztsADVoCELFar_Od1FbKGMC7Bq" rel="nofollow noopener" style="color: rgb(54\, 88\, 153)\; font-family: Helvetica\, Arial\, sans-serif\; font-size: 14px\; cursor: pointer\; text-decoration-line: none\;" target="_blank">http://www.lakemaryfl.com/parks-and-recreation/pages/heritage-park-and-veterans-memorial</a><span style="color: rgb(29\, 33\, 41)\; font-family: helvetica\,arial\,sans-serif\; font-size: 14px\;">&nbsp\;</span><br />\n<br />\n<span style="color: rgb(29\, 33\, 41)\; font-family: helvetica\,arial\,sans-serif\; font-size: 14px\;"><strong>FREE </strong>light breakfast &amp\; refreshments will be served!</span>
LOCATION:Heritage Park 240 Greenleaf Lane Lake Mary\, FL 32746 (Located near the Lake Mary Sunrail Station)
UID:e.2138.14788
SEQUENCE:3
DTSTAMP:20260424T005811Z
URL:https://business.seminolebusiness.org/events/details/veteran-s-day-salute-14788
END:VEVENT

END:VCALENDAR
