BEGIN:VCALENDAR
VERSION:2.0
PRODID:-//ChamberMaster//Event Calendar 2.0//EN
METHOD:PUBLISH
X-PUBLISHED-TTL:P3D
REFRESH-INTERVAL:P3D
CALSCALE:GREGORIAN
BEGIN:VEVENT
DTSTART:20181111T180000Z
DTEND:20181112T010000Z
X-MICROSOFT-CDO-ALLDAYEVENT:FALSE
SUMMARY:Veterans Day Dance Marathon
DESCRIPTION:Veterans Day Dance Marathon is to show our appreciation to our Veterans. Please join us on November 11th to celebrate Veterans day by dancing all day at La Imperial Dance Lake Mary hosted by international Dance Champion Vard Margaryan. $15 per person\, each class with $5.00 per person\, per class donated to the Wounded Warrior Project. All Military are FREE (please show your ID at the door). Group classes every 45 minutes with 15 minute break every hour. You can stay for one or stay for up to 7 classes. \n\nBeverages and Snacks available.
X-ALT-DESC;FMTTYPE=text/html:Veterans Day Dance Marathon is to show our appreciation to our Veterans. Please join us on November 11th to celebrate Veterans day by dancing all day at La Imperial Dance Lake Mary hosted by international Dance Champion Vard Margaryan. $15 per person\, each class with $5.00 per person\, per class donated to the Wounded Warrior Project. All Military are FREE (please show your ID at the door). Group classes every 45 minutes with 15 minute break every hour. You can stay for one or stay for up to 7 classes.&nbsp\;<br />\nBeverages and Snacks available.&nbsp\;
LOCATION:La Imperial Dance Lake Mary 242 Wheelhouse Ln Suit #1240 Lake Mary FL\, 32746
UID:e.2138.14798
SEQUENCE:3
DTSTAMP:20260424T004009Z
URL:https://business.seminolebusiness.org/events/details/veterans-day-dance-marathon-14798
END:VEVENT

END:VCALENDAR
