BEGIN:VCALENDAR
VERSION:2.0
PRODID:-//ChamberMaster//Event Calendar 2.0//EN
METHOD:PUBLISH
X-PUBLISHED-TTL:P3D
REFRESH-INTERVAL:P3D
CALSCALE:GREGORIAN
BEGIN:VEVENT
DTSTART:20180505T130000Z
DTEND:20180505T150000Z
X-MICROSOFT-CDO-ALLDAYEVENT:FALSE
SUMMARY:Vision Board Workshop - Be Powerful\, Passionate and Prosperous in 2018!! CInco de Mayo! May 5th!
DESCRIPTION:JOIN the Orlando Housewives of Finance on Saturday\, May 5th\, for the Cinco de Mayo\, Vision Board Party Workshop & Networking event.\n\n\n\nReserve your spot now!\n\nhttps://visionboardpartylkmary.eventbrite.com\n\n \n\nCome and receive a Passionate presentation by Diazina Mobley\, MSW\, LCSW\, Licensed Counselor and Holistic Coach and Kristy Nevils\, an award-winning inventor\, published author and a successful business founder and owner. They will inspire you to ignite your passion(s) and identify/clarify your dream and vision. \n\n \n\nGive life to the desires of your dreams by creating an amazing vision board to inspire throughout the year.\n\n \n\nBYOV - Bring your own vision and we'll supply the rest!! Past guest please bring your board and share what you have achieved thus far and update/modify your vision board.\n\nJoin us Saturday\, May 5th\, from 9 am   11 am. \n\n \n\nCost $18 (includes hors d'oeuvres & supplies). If you wish you can bring your own magazines. You DO NOT want to miss this event. Be sure to share with your family\, friends\, neighbors\, and coworkers. \n\n \n\nCome be Powerful\, Passionate and Prosperous in 2018!!
X-ALT-DESC;FMTTYPE=text/html:<strong><span style="margin: 0px\; color: rgb(102\, 106\, 115)\; letter-spacing: 0.4pt\;">JOIN </span></strong><span style="margin: 0px\; color: rgb(102\, 106\, 115)\; letter-spacing: 0.4pt\;">the Orlando Housewives of Finance on <strong>Saturday\, May 5th\,</strong> for the Cinco de Mayo\, Vision Board Party Workshop &amp\; Networking event.</span>\n<div align="center" style="margin: 0px\; text-align: center\; line-height: normal\;">\n<hr align="center" size="0" width="100%" /></div>\n\n<p style="margin: 0px\; line-height: normal\;"><span style="margin: 0px\; color: rgb(102\, 106\, 115)\; letter-spacing: 0.4pt\;">Reserve your spot now!<br />\nhttps://visionboardpartylkmary.eventbrite.com</span></p>\n\n<p style="margin: 0px\; line-height: normal\;">&nbsp\;</p>\n\n<p style="margin: 0px\; line-height: normal\;"><span style="margin: 0px\; color: rgb(102\, 106\, 115)\; letter-spacing: 0.4pt\;">Come and receive a<strong> Passionate</strong> presentation by <strong>Diazina Mobley\, </strong>MSW\, LCSW\, Licensed Counselor and Holistic Coach and <strong>Kristy Nevils\, </strong>an award-winning inventor\, published author and a successful business founder and owner. They will inspire you to ignite your passion(s) and identify/clarify your dream and vision. </span></p>\n\n<p style="margin: 0px\; line-height: normal\;">&nbsp\;</p>\n\n<p style="margin: 0px\; line-height: normal\;"><span style="margin: 0px\; color: rgb(102\, 106\, 115)\; letter-spacing: 0.4pt\;">Give life to the desires of your dreams by creating an amazing vision board to inspire throughout the year.</span></p>\n\n<p style="margin: 0px\; line-height: normal\;">&nbsp\;</p>\n\n<p style="margin: 0px\; line-height: normal\;"><strong><span style="margin: 0px\; color: rgb(102\, 106\, 115)\; letter-spacing: 0.4pt\;">BYOV -</span></strong><span style="margin: 0px\; color: rgb(102\, 106\, 115)\; letter-spacing: 0.4pt\;"> Bring your own vision and we&#39\;ll supply the rest!! <strong>Past guest please bring your board and share what you have achieved thus far and update/modify your vision board.</strong></span></p>\n\n<p style="margin: 0px\; line-height: normal\;"><strong><span style="margin: 0px\; color: rgb(102\, 106\, 115)\; letter-spacing: 0.4pt\;">Join</span></strong><span style="margin: 0px\; color: rgb(102\, 106\, 115)\; letter-spacing: 0.4pt\;"> us <strong>Saturday\, May 5th\, from 9 am &ndash\; 11 am.</strong> </span></p>\n\n<p style="margin: 0px\; line-height: normal\;">&nbsp\;</p>\n\n<p style="margin: 0px\; line-height: normal\;"><span style="margin: 0px\; color: rgb(102\, 106\, 115)\; letter-spacing: 0.4pt\;">Cost $18 (includes hors d&rsquo\;oeuvres &amp\; supplies). <em>If you wish you can bring your own magazines</em>. You DO NOT want to miss this event. Be sure to share with your family\, friends\, neighbors\, and coworkers. </span></p>\n\n<p style="margin: 0px\; line-height: normal\;">&nbsp\;</p>\n\n<p style="margin: 0px\; line-height: normal\;"><span style="margin: 0px\; color: rgb(102\, 106\, 115)\; letter-spacing: 0.4pt\;">Come be <strong>Powerful\, Passionate and Prosperous</strong> in 2018!!</span></p>\n\n<p style="margin: 0px 0px 10.66px\;"><font color="#000000" face="Calibri" size="3">&nbsp\;</font></p>\n
LOCATION:Lake Mary Community 140 E. Wilbur Ave Lake Mary\, FL 32746
UID:e.2138.8963
SEQUENCE:3
DTSTAMP:20260424T101921Z
URL:https://business.seminolebusiness.org/events/details/vision-board-workshop-be-powerful-passionate-and-prosperous-in-2018-cinco-de-mayo-may-5th-8963
END:VEVENT

END:VCALENDAR
