BEGIN:VCALENDAR
VERSION:2.0
PRODID:-//ChamberMaster//Event Calendar 2.0//EN
METHOD:PUBLISH
X-PUBLISHED-TTL:P3D
REFRESH-INTERVAL:P3D
CALSCALE:GREGORIAN
BEGIN:VEVENT
DTSTART:20190725T220000Z
DTEND:20190726T003000Z
X-MICROSOFT-CDO-ALLDAYEVENT:FALSE
SUMMARY:Walk On Water 15th Anniversary Gala
DESCRIPTION:15th Annual Anniversary Gala - Fashion Show\, Appetizers\, Raffles. Presented by Walk On Water\, A Boutique that Gives Back. In Honor of Arlys Ann Schiedel and benefiting St. Jude Children's Research Hospital. \n\nTickets may be purchased at Walk On Water in Lake Mary\, Florida. Cost is $40 in advance or $45 at the door. You will receive a $20 Walk On Water Gift Certificate with ticket purchase.
X-ALT-DESC;FMTTYPE=text/html:15th Annual Anniversary Gala - Fashion Show\, Appetizers\, Raffles. Presented by Walk On Water\, A Boutique that Gives Back. In Honor of Arlys Ann Schiedel and benefiting St. Jude Children&#39\;s Research Hospital.&nbsp\;<br />\nTickets may be purchased at Walk On Water in Lake Mary\, Florida. Cost is $40 in advance or $45 at the door. You will receive a $20 Walk On Water Gift Certificate with ticket purchase.&nbsp\;
LOCATION:Heathrow Country Club 1200 Bridgewater Drive Heathrow\, Florida 32746
UID:e.2138.16220
SEQUENCE:3
DTSTAMP:20260422T045455Z
URL:https://business.seminolebusiness.org/events/details/walk-on-water-15th-anniversary-gala-16220
END:VEVENT

END:VCALENDAR
