BEGIN:VCALENDAR
VERSION:2.0
PRODID:-//ChamberMaster//Event Calendar 2.0//EN
METHOD:PUBLISH
X-PUBLISHED-TTL:P3D
REFRESH-INTERVAL:P3D
CALSCALE:GREGORIAN
BEGIN:VEVENT
DTSTART:20180324T180000Z
DTEND:20180324T210000Z
X-MICROSOFT-CDO-ALLDAYEVENT:FALSE
SUMMARY:We've Moved! Open House Celebration for Brendan Jones\, Financial Advisor with Edward Jones Investments
DESCRIPTION:Hosted by Brendan Jones and Family\n\nJoin us as we celebrate the grand opening of our new Edward Jones office in Longwood.  We invite you to bring your family\, friends\, and co-workers to help us celebrate this occasion.  Refreshments and light snacks will be served.\n\n\n\nWe hope you and a guest will join us.  Please call Hripsime Bartholomew at 321-207-0958 to help us gather an approximate head count.
X-ALT-DESC;FMTTYPE=text/html:Hosted by Brendan Jones and Family<br />\nJoin us as we celebrate the grand opening of our new Edward Jones office in Longwood.&nbsp\; We invite you to bring your family\, friends\, and co-workers to help us celebrate this occasion.&nbsp\; Refreshments and light snacks will be served.<br />\n<br />\nWe hope you and a guest will join us.&nbsp\; Please call Hripsime Bartholomew at 321-207-0958 to help us gather an approximate head count.<br />\n&nbsp\;
LOCATION:1200 W SR 434 Suite 118 Longwood\, FL 32750
UID:e.2138.8815
SEQUENCE:3
DTSTAMP:20260424T130742Z
URL:https://business.seminolebusiness.org/events/details/we-ve-moved-open-house-celebration-for-brendan-jones-financial-advisor-with-edward-jones-investments-8815
END:VEVENT

END:VCALENDAR
