BEGIN:VCALENDAR
VERSION:2.0
PRODID:-//ChamberMaster//Event Calendar 2.0//EN
METHOD:PUBLISH
X-PUBLISHED-TTL:P3D
REFRESH-INTERVAL:P3D
CALSCALE:GREGORIAN
BEGIN:VEVENT
DTSTART:20250807T230000Z
DTEND:20250808T010000Z
X-MICROSOFT-CDO-ALLDAYEVENT:FALSE
SUMMARY:Wealth Strategies Info Gathering
DESCRIPTION:Join us in the comfortable atmosphere of an in-home\, informative & entertaining gathering. Learn why silver and gold bullion and collectables are such a smart buy in today's economy and world market.\n\n\n\nAlso live streaming on Zoom -- Bit.ly/WealthStrategiesZoom
X-ALT-DESC;FMTTYPE=text/html:<p>Join us in the comfortable atmosphere of an in-home\, informative &amp\; entertaining gathering. Learn why silver and gold bullion and collectables are such a smart buy in today&rsquo\;s economy and world market.<br />\n<br />\nAlso live streaming on Zoom -- Bit.ly/WealthStrategiesZoom</p>\n
LOCATION:Lake Mary\, Florida. Text for Address. 407-230-9520 or watch on ZOOM Bit.ly/WealthStrategiesZoom
UID:e.2138.37696
SEQUENCE:3
DTSTAMP:20260423T084809Z
URL:https://business.seminolebusiness.org/events/details/wealth-strategies-info-gathering-37696
END:VEVENT

END:VCALENDAR
