BEGIN:VCALENDAR
VERSION:2.0
PRODID:-//ChamberMaster//Event Calendar 2.0//EN
METHOD:PUBLISH
X-PUBLISHED-TTL:P3D
REFRESH-INTERVAL:P3D
CALSCALE:GREGORIAN
BEGIN:VEVENT
DTSTART:20161019T190000Z
DTEND:20161019T200000Z
X-MICROSOFT-CDO-ALLDAYEVENT:FALSE
SUMMARY:Webinar for Professional Advisors “The Applied Generation-Skipping Transfer Tax” with Gary Post
DESCRIPTION:Presentation topics: Explore the mysteries\, myths and realities of the far-reaching Generation-Skipping Transfer Tax including:\n\n* A practical discussion of how the GSTT works and its surprising application to simple\, as well as sophisticated\, estate planning techniques.\n\n* Creative planning opportunities for allocating the GST exemption\, including ILITs and sales to IDITs.\n\n* Traps that lead to unintended GSTT consequences in planning and how to avoid or fix the problem.\n\n\n\nAccountants: If you have a site monitor at your viewing location and you pre-register to attend\, you can earn CPE credit for attending this webinar. To pre-register\, click on the link on the second page. In advance of the program\, you will be emailed the appropriate forms to apply for credit. This course qualifies with NASBA for 1.0 hour of CPE credit in the category of Taxes.
X-ALT-DESC;FMTTYPE=text/html:Presentation topics: Explore the mysteries\, myths and realities of the far-reaching Generation-Skipping Transfer Tax including:<br>\n* A practical discussion of how the GSTT works and its surprising application to simple\, as well as sophisticated\, estate planning techniques.<br>\n*&nbsp\;Creative planning opportunities for allocating the GST exemption\, including ILITs and sales to IDITs.<br>\n* Traps that lead to unintended GSTT consequences in planning and how to avoid or fix the problem.<br>\n<br>\nAccountants: If you have a site monitor at your viewing location and you pre-register to attend\, you can earn CPE credit for attending this webinar. To pre-register\, click on the link on the second page. In advance of the program\, you will be emailed the appropriate forms to apply for credit. This course qualifies with NASBA for 1.0 hour of CPE credit in the category of Taxes.
LOCATION:http://newyorklife.acms.com/e4 tov9u7gsl/event/registration.html
UID:e.2138.5729
SEQUENCE:3
DTSTAMP:20260425T164733Z
URL:https://business.seminolebusiness.org/events/details/webinar-for-professional-advisors-the-applied-generation-skipping-transfer-tax-with-gary-post-5729
END:VEVENT

END:VCALENDAR
