BEGIN:VCALENDAR
VERSION:2.0
PRODID:-//ChamberMaster//Event Calendar 2.0//EN
METHOD:PUBLISH
X-PUBLISHED-TTL:P3D
REFRESH-INTERVAL:P3D
CALSCALE:GREGORIAN
BEGIN:VEVENT
DTSTART:20190515T220000Z
DTEND:20190516T000000Z
X-MICROSOFT-CDO-ALLDAYEVENT:FALSE
SUMMARY:Wednesday WINE: Happy Hour
DESCRIPTION:Looking for a unique spin on the same old hump day happy hour? Join us for Wednesday W.I.N.E. presented by Corkcicle\, a new series of bimonthly Women's Interactive Networking Events hosted by Florida Citrus Sports and designed to help bring members together to socialize\, share ideas and make connections with business and community leaders from all over Central Florida.\n\nOur upcoming soiree will take place on May 15 at Grape & The Grain. Enjoy the reserved patio space and a bottomless selection of fantastic drinks accompanied by some light bites.
X-ALT-DESC;FMTTYPE=text/html:<p><span style="color: rgb(10\, 10\, 10)\; font-family: helvetica neue\; font-size: 13.5pt\;">Looking for a unique spin on the same old hump day happy hour? Join us for Wednesday W.I.N.E. presented by Corkcicle\, a new series of bimonthly Women&rsquo\;s Interactive Networking Events hosted by Florida Citrus Sports and designed to help bring members together to socialize\, share ideas and make connections with business and community leaders from all over Central Florida.</span></p>\n\n<p><span style="color: rgb(10\, 10\, 10)\; font-family: helvetica neue\; font-size: 13.5pt\;">Our upcoming soiree will take place on May 15 at&nbsp\;<strong><span style="font-family: helvetica neue\;"><a href="https://grapeandthegrain.com/" style="line-height: inherit\; cursor: pointer\; box-sizing: inherit\;" target="_blank"><span style="color: rgb(228\, 113\, 38)\;">Grape &amp\; The Grain</span></a></span></strong>. Enjoy the reserved patio space and a bottomless selection of fantastic drinks accompanied by some light bites.</span></p>\n
LOCATION:Grape & The Grain 1110 Virginia Dr\, Orlando\, FL 32803
UID:e.2138.15156
SEQUENCE:3
DTSTAMP:20260422T081029Z
URL:https://business.seminolebusiness.org/events/details/wednesday-wine-happy-hour-15156
END:VEVENT

END:VCALENDAR
