BEGIN:VCALENDAR
VERSION:2.0
PRODID:-//ChamberMaster//Event Calendar 2.0//EN
METHOD:PUBLISH
X-PUBLISHED-TTL:P3D
REFRESH-INTERVAL:P3D
CALSCALE:GREGORIAN
BEGIN:VEVENT
DTSTART:20190213T230000Z
DTEND:20190214T023000Z
X-MICROSOFT-CDO-ALLDAYEVENT:FALSE
SUMMARY:Wednesday WINE: Yoga on the Field
DESCRIPTION:Looking for a unique spin on the same old hump day happy hour? Join us for Wednesday W.I.N.E. presented by Corkcicle\, a new series of bimonthly Women's Interactive Networking Events hosted by Florida Citrus Sports and designed to help bring members together to socialize\, share ideas and make connections with business and community leaders from all over Central Florida.\n\n \n\nOur upcoming soiree will take place on February 13 at Camping World Stadium. Admission includes a one-hour yoga class led by an experienced and enthusiastic local instructor on the field of Camping World Stadium followed by happy hour in the Dex Imaging Skyline Suite featuring a selection of wines\, beer\, soft drinks and appetizers.\n\n \n\nAll Florida Citrus Sports members receive a complimentary ticket to this event. General admission and additional guest tickets are available for $10 each.\n\n \n\nAll guests who join Florida Citrus Sports following the event will receive a refund equal to the cost of admission. The referring member will receive referral or membership sales drive credit
X-ALT-DESC;FMTTYPE=text/html:<h4><span style="font-size: 12px\;"><span style="font-family: arial\,helvetica\,sans-serif\;"><span style="color: rgb(10\, 10\, 10)\;">Looking for a unique spin on the same old hump day happy hour? Join us for Wednesday W.I.N.E. presented by Corkcicle\, a new series of bimonthly Women&rsquo\;s Interactive Networking Events hosted by Florida Citrus Sports and designed to help bring members together to socialize\, share ideas and make connections with business and community leaders from all over Central Florida.</span><br />\n&nbsp\;<br />\n<span style="color: rgb(10\, 10\, 10)\;">Our upcoming soiree will take place on February 13 at Camping World Stadium. Admission includes a one-hour yoga class led by an experienced and enthusiastic local instructor on the field of Camping World Stadium followed by happy hour in the Dex Imaging Skyline Suite featuring a selection of wines\, beer\, soft drinks and appetizers.</span><br />\n&nbsp\;<br />\n<span style="color: rgb(10\, 10\, 10)\;">All Florida Citrus Sports members receive a complimentary ticket to this event. General admission and additional guest tickets are available for $10 each.</span><br />\n&nbsp\;<br />\n<span style="color: rgb(10\, 10\, 10)\;">All guests who join Florida Citrus Sports following the event will receive a refund equal to the cost of admission. The referring member will receive referral or membership sales drive credit</span></span></span></h4>\n
LOCATION:Camping World Stadium 1 Citrus Bowl Place Orlando FL\, 32805
UID:e.2138.14881
SEQUENCE:3
DTSTAMP:20260422T131836Z
URL:https://business.seminolebusiness.org/events/details/wednesday-wine-yoga-on-the-field-14881
END:VEVENT

END:VCALENDAR
