BEGIN:VCALENDAR
VERSION:2.0
PRODID:-//ChamberMaster//Event Calendar 2.0//EN
METHOD:PUBLISH
X-PUBLISHED-TTL:P3D
REFRESH-INTERVAL:P3D
CALSCALE:GREGORIAN
BEGIN:VEVENT
DTSTART:20250709T180000Z
DTEND:20250708T200000Z
X-MICROSOFT-CDO-ALLDAYEVENT:FALSE
SUMMARY:Welcome Wednesday's Open House
DESCRIPTION:Join us every Wednesday from 2:00pm - 4:00pm for Welcome Wednesdays Open House at our community! Enjoy light refreshments\, entertainment\, and a guided tour of our beautiful residence. Meet our dedicated team and discover the warm\, engaging environment we offer seniors. No RSVP needed-just stop by
X-ALT-DESC;FMTTYPE=text/html:Join us every Wednesday from 2:00pm - 4:00pm for <em>Welcome Wednesdays Open House</em> at our community! Enjoy light refreshments\, entertainment\, and a guided tour of our beautiful residence. Meet our dedicated team and discover the warm\, engaging environment we offer seniors. No RSVP needed-just stop by
LOCATION:Wayman Place 342 S. Wayman St. Longwood\, FL. 32750
UID:e.2138.37119
SEQUENCE:3
DTSTAMP:20260423T122530Z
URL:https://business.seminolebusiness.org/events/details/welcome-wednesday-s-open-house-37119
END:VEVENT

END:VCALENDAR
