BEGIN:VCALENDAR
VERSION:2.0
PRODID:-//ChamberMaster//Event Calendar 2.0//EN
METHOD:PUBLISH
X-PUBLISHED-TTL:P3D
REFRESH-INTERVAL:P3D
CALSCALE:GREGORIAN
BEGIN:VEVENT
DTSTART:20160922T210000Z
DTEND:20160922T233000Z
X-MICROSOFT-CDO-ALLDAYEVENT:FALSE
SUMMARY:What is Your Back Telling You?\, Dr. Chetan Patel
DESCRIPTION:Join Dr. Patel as he discusses innovations in spine health aimed at maximizing functionality with the least-invasive approach possible. Learn the tools you need to keep your spine safe and strong\, so you can get back to doing what you love. RSVP required. Free Health Screenings provided by Family Care Center of Oviedo. \n\nWe're providing a variety of FREE screenings and lectures designed to make Oviedo 1 Healthy Community! In 1 convenient area\, the Florida Hospital Network of Care offers primary care and specialty physicians\, urgent care\, imaging services and physical therapy\, providing an array of prevention\, diagnosis and treatments for the body\, mind and spirit.\n\nFor full details and to reserve your spot\, visit FHEventsOviedo.com or call 407.200.2900.
X-ALT-DESC;FMTTYPE=text/html:Join Dr. Patel as he discusses innovations in spine health aimed at&nbsp\;maximizing functionality with the least-invasive approach possible.&nbsp\;Learn the tools you need to keep your spine safe and strong\, so you&nbsp\;can get back to doing what you love.&nbsp\;RSVP required.&nbsp\;Free Health Screenings provided by Family Care Center of Oviedo.&nbsp\;<br />\nWe&rsquo\;re providing a variety of FREE screenings and&nbsp\;lectures designed to make Oviedo 1 Healthy Community!&nbsp\;In 1 convenient area\, the Florida Hospital&nbsp\;Network of Care offers primary care and&nbsp\;specialty physicians\, urgent care\, imaging&nbsp\;services and physical therapy\, providing&nbsp\;an array of prevention\, diagnosis and&nbsp\;treatments for the body\, mind and spirit.<br />\nFor full details and to reserve your spot\,&nbsp\;visit FHEventsOviedo.com or call 407.200.2900.<br />\n&nbsp\;
LOCATION:Cultural Center at Center Lake Park
UID:e.2138.4803
SEQUENCE:3
DTSTAMP:20260425T181513Z
URL:https://business.seminolebusiness.org/events/details/what-is-your-back-telling-you-dr-chetan-patel-09-22-2016-4803
END:VEVENT

END:VCALENDAR
