BEGIN:VCALENDAR
VERSION:2.0
PRODID:-//ChamberMaster//Event Calendar 2.0//EN
METHOD:PUBLISH
X-PUBLISHED-TTL:P3D
REFRESH-INTERVAL:P3D
CALSCALE:GREGORIAN
BEGIN:VEVENT
DTSTART:20190221T230000Z
DTEND:20190222T010000Z
X-MICROSOFT-CDO-ALLDAYEVENT:FALSE
SUMMARY:What's Different About Retirement?
DESCRIPTION:Learn about the retirement risks that you might face\, and how New York Life retirment solutions can help you throughout retirement.  \n\n\n\nJoin us for an informational seminar on how New York Life can help point you in the right direction.\n\n\n\nSpeaker:\n\nFrank P. LaValla Jr.\,\n\nCLU \, ChFC \, RICP \, CASL \, CLTC \n\nCorporate Vice President \n\nNew York Life Insurance Company\n\n\n\nRegistered Representative for New York Life Securities LLC (Member FINRA/SIPC)\, a Licensed Insurance Agency
X-ALT-DESC;FMTTYPE=text/html:Learn about the retirement risks that you might face\, and how New York Life retirment solutions can help you throughout retirement. &nbsp\;<br />\n<br />\nJoin us for an informational seminar on how New York Life can help point you in the right direction.<br />\n<br />\n<strong>Speaker:</strong><br />\n<strong>Frank P. LaValla Jr.</strong>\,<br />\nCLU<sup>&reg\;</sup>\, ChFC<span style="color: rgb(51\, 51\, 51)\; font-family: sans-serif\,arial\,verdana\,trebuchet ms\; font-size: 13px\; background-color: rgb(255\, 255\, 255)\;"><sup>&reg\;</sup>\, RICP<sup>&reg\;</sup>\, CASL<sup>&reg\;</sup>\, CLTC<sup>&reg\;</sup></span><br />\nCorporate Vice President&nbsp\;<br />\nNew York Life Insurance Company<br />\n<br />\nRegistered Representative for New York Life Securities LLC (Member FINRA/SIPC)\, a Licensed Insurance Agency
LOCATION:The Citrus Club 255 S. Orange Ave.#1800 Orlando\, FL 32801
UID:e.2138.14938
SEQUENCE:3
DTSTAMP:20260424T103203Z
URL:https://business.seminolebusiness.org/events/details/what-s-different-about-retirement-14938
END:VEVENT

END:VCALENDAR
