BEGIN:VCALENDAR
VERSION:2.0
PRODID:-//ChamberMaster//Event Calendar 2.0//EN
METHOD:PUBLISH
X-PUBLISHED-TTL:P3D
REFRESH-INTERVAL:P3D
CALSCALE:GREGORIAN
BEGIN:VEVENT
DTSTART:20160927T220000Z
DTEND:20160927T233000Z
X-MICROSOFT-CDO-ALLDAYEVENT:FALSE
SUMMARY:When and Why Should I See a Urologist?\, Dr. Stephen Dobkin
DESCRIPTION:Join Dr. Dobkin as he discusses common urology issues affecting both men and women: UTIs\, incontinence and kidney stones. RSVP required.\n\nWe're providing a variety of FREE screenings and lectures designed to make Oviedo 1 Healthy Community! In 1 convenient area\, the Florida Hospital Network of Care offers primary care and specialty physicians\, urgent care\, imaging services and physical therapy\, providing an array of prevention\, diagnosis and treatments for the body\, mind and spirit.\n\nFor full details and to reserve your spot\, visit FHEventsOviedo.com or call 407.200.2900.
X-ALT-DESC;FMTTYPE=text/html:Join Dr. Dobkin as he discusses common urology issues affecting both men and women: UTIs\, incontinence and kidney stones. RSVP required.<br />\nWe&rsquo\;re providing a variety of FREE screenings and&nbsp\;lectures designed to make Oviedo 1 Healthy Community!&nbsp\;In 1 convenient area\, the Florida Hospital&nbsp\;Network of Care offers primary care and&nbsp\;specialty physicians\, urgent care\, imaging&nbsp\;services and physical therapy\, providing&nbsp\;an array of prevention\, diagnosis and&nbsp\;treatments for the body\, mind and spirit.<br />\nFor full details and to reserve your spot\,&nbsp\;visit FHEventsOviedo.com or call 407.200.2900.
LOCATION:Cultural Center at Center Lake Park
UID:e.2138.4804
SEQUENCE:3
DTSTAMP:20260425T175855Z
URL:https://business.seminolebusiness.org/events/details/when-and-why-should-i-see-a-urologist-dr-stephen-dobkin-09-27-2016-4804
END:VEVENT

END:VCALENDAR
