BEGIN:VCALENDAR
VERSION:2.0
PRODID:-//ChamberMaster//Event Calendar 2.0//EN
METHOD:PUBLISH
X-PUBLISHED-TTL:P3D
REFRESH-INTERVAL:P3D
CALSCALE:GREGORIAN
BEGIN:VEVENT
DTSTART:20171109T223000Z
DTEND:20171110T003000Z
X-MICROSOFT-CDO-ALLDAYEVENT:FALSE
SUMMARY:Why 'Good' Businesses Don't Grow?
DESCRIPTION:This seminar will show you: \n\n\n\n\n\n1. The 5 Major Shifts\n\nWhy most businesses are built on a model that can only sustain a certain level of growth\, and the 5 shifts absolutely necessary to add significant revenue.\n\n2. Scalable Systems\n\nHow to shift from an owner-based business that's fueled by your time and effort\, to a scalable\, systems-driven business that works for you\, not because of you.\n\n3. Create Your Wealth\n\nBuild a business you know you're capable of and have the freedom to do what you love and set out to do when you started the business in the first place.\n\n4. Increase your Social Count\n\nHow to Grow Your Following on Social Media and Increase Your Online Presence\n\n\n\nGUEST SPEAKER: Ralph Jean-Paul \n\n\n\n"Ralph Jean-Paul is the Managing Editor for StartUp Mindset. StartUp Mindset is the entrepreneurial publication focused on helping new\, seasoned and aspiring entrepreneurs succeed in their ventures. Before launching the site\, Ralph worked as a Financial Advisor and ran his personal development blog part-time which at its peak was attracting 130\,000 visits per month. \n\nHe later had the idea for StartUp Mindset which launched in 2015 and has used his previous blogging success to grow the site's following to over 230\,000 social media followers over 3 platforms. StartUp Mindset has been featured on sites like MSN Money\, Entrepreneur\, Lifehack and has been recently named one of the Top 50 Entrepreneurship Blogs by Feedspot.com."\n\n\n\nREGISTER NOW!
X-ALT-DESC;FMTTYPE=text/html:<br />\n<span style="color:rgb(0\, 0\, 0)"><strong><em><span style="font-family:helvetica\,arial\,sans-serif\; font-size:14px">This seminar will show you:&nbsp\;</span></em></strong></span><br />\n<br />\n<br />\n<strong><span style="color:rgb(75\, 79\, 86)\; font-family:helvetica\,arial\,sans-serif\; font-size:14px">1. The 5 Major Shifts</span></strong><br />\n<span style="color:rgb(75\, 79\, 86)\; font-family:helvetica\,arial\,sans-serif\; font-size:14px">Why most businesses are built on a model that can only sustain a certain level of growth\, and the 5 shifts absolutely necessary to add significant revenue.</span><br />\n<strong><span style="color:rgb(75\, 79\, 86)\; font-family:helvetica\,arial\,sans-serif\; font-size:14px">2. Scalable Systems</span></strong><br />\n<span style="color:rgb(75\, 79\, 86)\; font-family:helvetica\,arial\,sans-serif\; font-size:14px">How to shift from an owner-based business that&#39\;s fueled by your time and effort\, to a scalable\, systems-driven business that works for you\, not because of you.</span><br />\n<strong><span style="color:rgb(75\, 79\, 86)\; font-family:helvetica\,arial\,sans-serif\; font-size:14px">3. Create Your Wealth</span></strong><br />\n<span style="color:rgb(75\, 79\, 86)\; font-family:helvetica\,arial\,sans-serif\; font-size:14px">Build a business you know you&rsquo\;re capable of and have the freedom to do what you love and set out to do when you started the business in the first place.</span><br />\n<strong><span style="color:rgb(75\, 79\, 86)\; font-family:helvetica\,arial\,sans-serif\; font-size:14px">4. Increase your Social Count</span></strong><br />\n<span style="color:rgb(75\, 79\, 86)\; font-family:helvetica\,arial\,sans-serif\; font-size:14px">How to Grow Your Following on Social Media and Increase Your Online Presence</span><br />\n<br />\n<span style="color:rgb(0\, 0\, 0)"><strong><span style="font-family:helvetica\,arial\,sans-serif\; font-size:14px">GUEST SPEAKER: Ralph Jean-Paul&nbsp\;</span></strong></span><br />\n<br />\n<span style="color:rgb(75\, 79\, 86)\; font-family:helvetica\,arial\,sans-serif\; font-size:14px">&quot\;Ralph Jean-Paul is the Managing Editor for StartUp Mindset. StartUp Mindset is the entrepreneurial publication focused on helping new\, seasoned and aspiring entrepreneurs succeed in their ventures. Before launching the site\, Ralph worked as a Financial Advisor and ran his personal development blog part-time which at its peak was attracting 130\,000 visits per month.&nbsp\;<br />\nHe later had the idea for StartUp Mindset which launched in 2015 and has used his previous blogging success to grow the site&#39\;s following to over 230\,000 social media followers over 3 platforms. StartUp Mindset has been featured on sites like MSN Money\, Entrepreneur\, Lifehack and has been recently named one of the Top 50 Entrepreneurship Blogs by&nbsp\;<a href="https://l.facebook.com/l.php?u=http%3A%2F%2FFeedspot.com%2F&amp\;h=ATO6QlLUbGgffkLgTQ6Iyn6E_6tP0RakHdCCfHsnx5kJywo2GwKdaHSA3kMmG_l_8aER7M6qlMyQvyrwwTCV2-MYoF1hKbA7NfyBqv39PY8PMMnzKhsr351pB8TM0WZto59cFFkDpRLHOzXla4ZMW2O8Iy8nl2jVC_LE_BgPGxH5VxR19JDbfA" rel="nofollow noopener" style="color: rgb(54\, 88\, 153)\; cursor: pointer\; text-decoration-line: none\; font-family: inherit\;" target="_blank">Feedspot.com.</a></span><span style="color:rgb(75\, 79\, 86)\; font-family:helvetica\,arial\,sans-serif\; font-size:14px">&quot\;<br />\n<br />\n<a href="http://www.actioncoach.com/danielaleon/promos/why-good-businesses-dont-grow"><strong>REGISTER NOW!</strong></a></span><br />\n<br />\n<br />\n&nbsp\;
LOCATION:New York Life 495 N Keller Rd. Suite 150 Maitland\, FL 32751
UID:e.2138.8350
SEQUENCE:3
DTSTAMP:20260424T061938Z
URL:https://business.seminolebusiness.org/events/details/why-good-businesses-don-t-grow-8350
END:VEVENT

END:VCALENDAR
