BEGIN:VCALENDAR
VERSION:2.0
PRODID:-//ChamberMaster//Event Calendar 2.0//EN
METHOD:PUBLISH
X-PUBLISHED-TTL:P3D
REFRESH-INTERVAL:P3D
CALSCALE:GREGORIAN
BEGIN:VEVENT
DTSTART:20170228T233000Z
DTEND:20170301T020000Z
X-MICROSOFT-CDO-ALLDAYEVENT:FALSE
SUMMARY:Wild Art & Wine at the Central Florida Zoo
DESCRIPTION:Enjoy a special evening at the Zoo with wine and hors d'oeuvres while painting an animal portrait. Art instructors will guide you to create your own masterpiece as you meet live animals up close.\n\nSupplies will be provided. Reservations are required by February 21\, 2017. Space is limited.\n\nMust be 21 years or older.\n\nAnnual Pass Holders: $35.00\, Non-Pass Holders: $40.00\n\nRegistration is available online at www.centralfloridazoo.org or contact 407.323.4450 ext. 123 or education@centralfloridazoo.org for more information.
X-ALT-DESC;FMTTYPE=text/html:<span style="font-family:times new roman\,serif"><span style="font-size:12.0pt">Enjoy a special evening at the Zoo with wine and hors d&rsquo\;oeuvres while painting an animal portrait. Art instructors will guide you to create your own masterpiece as you meet live animals up close.<br />\nSupplies will be provided. Reservations are required by February 21\, 2017. Space is limited.<br />\nMust be 21 years or older.<br />\nAnnual Pass Holders: $35.00\, Non-Pass Holders: $40.00<br />\nRegistration is available online at </span></span><span style="font-family:calibri\,sans-serif"><span style="font-size:11.0pt"><a href="http://www.centralfloridazoo.org/"><span style="font-family:times new roman\,serif"><span style="font-size:12.0pt">www.centralfloridazoo.org</span></span></a></span></span><span style="font-family:times new roman\,serif"><span style="font-size:12.0pt"> or contact 407.323.4450 ext. 123 or </span></span><span style="font-family:calibri\,sans-serif"><span style="font-size:11.0pt"><a href="mailto:education@centralfloridazoo.org"><span style="font-family:times new roman\,serif"><span style="font-size:12.0pt">education@centralfloridazoo.org</span></span></a></span></span><span style="font-family:times new roman\,serif"><span style="font-size:12.0pt"> for more information.</span></span>
LOCATION:The Central Florida Zoo and Botanical Gardens 3755 NW Hwy 17-92 Sanford\, FL 32771
UID:e.2138.6431
SEQUENCE:3
DTSTAMP:20260423T161954Z
URL:https://business.seminolebusiness.org/events/details/wild-art-wine-at-the-central-florida-zoo-6431
END:VEVENT

END:VCALENDAR
