BEGIN:VCALENDAR
VERSION:2.0
PRODID:-//ChamberMaster//Event Calendar 2.0//EN
METHOD:PUBLISH
X-PUBLISHED-TTL:P3D
REFRESH-INTERVAL:P3D
CALSCALE:GREGORIAN
BEGIN:VEVENT
DTSTART:20170517T223000Z
DTEND:20170518T010000Z
X-MICROSOFT-CDO-ALLDAYEVENT:FALSE
SUMMARY:Wild Art & Wine at the Central Florida Zoo & Botanical Gardens
DESCRIPTION:Enjoy a special evening at the Zoo with wine and hors d'oeuvres while painting an animal portrait. Art instructors will guide you to create your own masterpiece as you meet live animals up close.\n\nSupplies will be provided. Registration to come at a later date. Space is limited. Must be 21 years or older.\n\nAnnual Pass Holders: $35.00\, Non-Pass Holders: $40.00. Registration required. Registration online at www.centralfloridazoo.org or call 407.323.4450 ext. 123 or email education@centralfloridazoo.org for more information.
X-ALT-DESC;FMTTYPE=text/html:<span style="font-family:arial narrow\,sans-serif"><span style="font-size:12.0pt">Enjoy a special evening at the Zoo with wine and hors d&rsquo\;oeuvres while painting an animal portrait. Art instructors will guide you to create your own masterpiece as you meet live animals up close.<br />\nSupplies will be provided. Registration to come at a later date. Space is limited. Must be 21 years or older.<br />\nAnnual Pass Holders: $35.00\, Non-Pass Holders: $40.00. Registration required. Registration online at www.centralfloridazoo.org or call 407.323.4450 ext. 123 or email education@centralfloridazoo.org for more information.</span></span>
LOCATION:The Central Florida Zoo and Botanical Gardens 3755 NW Hwy 17-92 Sanford\, FL 32771
UID:e.2138.6433
SEQUENCE:3
DTSTAMP:20260423T223615Z
URL:https://business.seminolebusiness.org/events/details/wild-art-wine-at-the-central-florida-zoo-botanical-gardens-6433
END:VEVENT

END:VCALENDAR
