BEGIN:VCALENDAR
VERSION:2.0
PRODID:-//ChamberMaster//Event Calendar 2.0//EN
METHOD:PUBLISH
X-PUBLISHED-TTL:P3D
REFRESH-INTERVAL:P3D
CALSCALE:GREGORIAN
BEGIN:VEVENT
DTSTART:20190826T213000Z
DTEND:20190826T233000Z
X-MICROSOFT-CDO-ALLDAYEVENT:FALSE
SUMMARY:Wine Wills & Finance Success
DESCRIPTION:LET'S HAVE WINE & CHEESE\, AND A REAL CONVERSATION ABOUT WILLS AND FINANCES\n\n\n\nSharon Combs of New York will Speak about Financial Success\n\n\n\nJoin us to:\n\nComplete your Will Workbook\n\nAsk your Questions about your Financial future & Get the Answers! \n\n\n\nWine & Cheese Light Refreshments
X-ALT-DESC;FMTTYPE=text/html:<strong>LET&#39\;S HAVE WINE &amp\; CHEESE\, AND A REAL CONVERSATION ABOUT WILLS AND FINANCES<br />\n<br />\nSharon Combs of New York will Speak about Financial Success<br />\n<br />\nJoin us to:<br />\nComplete your Will Workbook<br />\nAsk your Questions about your Financial future &amp\; Get the Answers!&nbsp\;<br />\n<br />\nWine &amp\; Cheese Light Refreshments</strong><br />\n&nbsp\;
LOCATION:Rasmussen College 385 Douglas Ave Ste 1000 Altamonte Springs\, Fl
UID:e.2138.16541
SEQUENCE:3
DTSTAMP:20260422T051402Z
URL:https://business.seminolebusiness.org/events/details/wine-wills-finance-success-16541
END:VEVENT

END:VCALENDAR
