BEGIN:VCALENDAR
VERSION:2.0
PRODID:-//ChamberMaster//Event Calendar 2.0//EN
METHOD:PUBLISH
X-PUBLISHED-TTL:P3D
REFRESH-INTERVAL:P3D
CALSCALE:GREGORIAN
BEGIN:VEVENT
DTSTART:20251008T180000Z
DTEND:20251008T200000Z
X-MICROSOFT-CDO-ALLDAYEVENT:FALSE
SUMMARY:Women in Transition
DESCRIPTION:This special seminar is based on the book\, Women in Transition\, and will touch on navigating the Legal and Financial Challenges in Life\, this workshop focuses on every woman as she moves from one phase of life to another.
X-ALT-DESC;FMTTYPE=text/html:This special seminar is based on the book\, Women in Transition\, and will touch on navigating the Legal and Financial Challenges in Life\, this workshop focuses on every woman as she moves from one phase of life to another.
LOCATION:Virtual event\, you will receive and email with a URL once registered
UID:e.2138.38767
SEQUENCE:3
DTSTAMP:20260423T053416Z
URL:https://business.seminolebusiness.org/events/details/women-in-transition-38767
END:VEVENT

END:VCALENDAR
