BEGIN:VCALENDAR
VERSION:2.0
PRODID:-//ChamberMaster//Event Calendar 2.0//EN
METHOD:PUBLISH
X-PUBLISHED-TTL:P3D
REFRESH-INTERVAL:P3D
CALSCALE:GREGORIAN
BEGIN:VEVENT
DTSTART:20190918T153000Z
DTEND:20190918T170000Z
X-MICROSOFT-CDO-ALLDAYEVENT:FALSE
SUMMARY:Women's Empowerment Luncheon
DESCRIPTION:Women's Empowerment Luncheon\n\nLadies of Justice Ambassador is hosting this Women's event.\n\nCome share how YOU Empower others\n\nLearn how many others are Empowering their clients with amazing products and services. \n\nGreat Food! Gifts for all who attend!
X-ALT-DESC;FMTTYPE=text/html:Women&#39\;s Empowerment Luncheon<br />\nLadies of Justice Ambassador is hosting this Women&#39\;s event.<br />\nCome share how YOU Empower others<br />\nLearn how many others are Empowering their clients with amazing products and services.&nbsp\;<br />\nGreat Food! Gifts for all who attend!
LOCATION:Lale Turkish Restaurant
UID:e.2138.16563
SEQUENCE:3
DTSTAMP:20260422T022158Z
URL:https://business.seminolebusiness.org/events/details/women-s-empowerment-luncheon-09-18-2019-16563
END:VEVENT

END:VCALENDAR
