BEGIN:VCALENDAR
VERSION:2.0
PRODID:-//ChamberMaster//Event Calendar 2.0//EN
METHOD:PUBLISH
X-PUBLISHED-TTL:P3D
REFRESH-INTERVAL:P3D
CALSCALE:GREGORIAN
BEGIN:VEVENT
DTSTART:20161116T233000Z
DTEND:20161117T013000Z
X-MICROSOFT-CDO-ALLDAYEVENT:FALSE
SUMMARY:Women's Leadership Initiative Leadership & Networking Forum
DESCRIPTION:Edward Jones Investments and Full Sail University invite professional women to The Women's Leadership & Networking Forum.  The event features a keynote speaker\, Susan Constantine - a nationally recognized speaker and author.\n\n\n\nSusan Constantine\, MPsy\, is the world's leading authority on body language as it pertains to leadership and deception detection.  The media regularly turns to Constantine for analysis of U.S. and global political leaders\, celebrities and supsect's in highly publicized trials.  She appeared in more than 1\,000 national and international television programs\, print publications and radio programs.\n\n\n\nThis event brings together career-minded women interested in advancement\, leadership development and connection with other professional women.
X-ALT-DESC;FMTTYPE=text/html:Edward Jones Investments and Full Sail University invite professional women to The Women&#39\;s Leadership &amp\; Networking Forum.&nbsp\; The event features a keynote speaker\, Susan Constantine - a nationally recognized speaker and author.<br />\n<br />\nSusan Constantine\, MPsy\, is the world&#39\;s leading authority on body language as it pertains to leadership and deception detection.&nbsp\; The media regularly turns to Constantine for analysis of U.S. and global political leaders\, celebrities and supsect&#39\;s in highly publicized trials.&nbsp\; She appeared in more than 1\,000 national and international television programs\, print publications and radio programs.<br />\n<br />\nThis event brings together career-minded women interested in advancement\, leadership development and connection with other professional women.
LOCATION:Full Sail University 141 University Park Dr. Winter Park\, FL 32792
UID:e.2138.5753
SEQUENCE:3
DTSTAMP:20260425T150419Z
URL:https://business.seminolebusiness.org/events/details/women-s-leadership-initiative-leadership-networking-forum-5753
END:VEVENT

END:VCALENDAR
