BEGIN:VCALENDAR
VERSION:2.0
PRODID:-//ChamberMaster//Event Calendar 2.0//EN
METHOD:PUBLISH
X-PUBLISHED-TTL:P3D
REFRESH-INTERVAL:P3D
CALSCALE:GREGORIAN
BEGIN:VEVENT
DTSTART:20160927T223000Z
DTEND:20160928T003000Z
X-MICROSOFT-CDO-ALLDAYEVENT:FALSE
SUMMARY:Women's Money Circle
DESCRIPTION:8-Week Psycho-Spiritual Group focused on healing the relationship\, beliefs and behaviors connected to money.\n\n\n\nOur culture is hyper-focused on money\; especially how to make and consume more.  Have you ever thought that having more money would solve your problems?  Have you ever felt fear or worry about having "enough"?  What would it really mean to feel secure and confident?  Join us to understand the powerful grip of money!\n\n\n\nGroup sessions will combine educational learning\, interpersonal group sharing and support\, meaningful exercises\, and artwork to engage the psyche in truly understanding money.\n\n\n\nGroup will meet for 8 weeks on Tuesdays from 6:30 - 8:30\, attendance at all group meetings is highly encouraged to obtain the most benefit.
X-ALT-DESC;FMTTYPE=text/html:8-Week Psycho-Spiritual Group focused on healing the relationship\, beliefs and behaviors connected to money.<br />\n<br />\nOur culture is hyper-focused on money\; especially how to make and consume more.&nbsp\; Have you ever thought that having more money would solve your problems?&nbsp\; Have you ever felt fear or worry about having &ldquo\;enough&rdquo\;?&nbsp\; What would it really mean to feel secure and confident?&nbsp\; Join us to understand the powerful grip of money!<br />\n<br />\nGroup sessions will combine educational learning\, interpersonal group sharing and support\, meaningful exercises\, and artwork to engage the psyche in truly understanding money.<br />\n<br />\nGroup will meet for 8 weeks on Tuesdays from 6:30 - 8:30\, attendance at all group meetings is highly encouraged to obtain the most benefit.
LOCATION:Maitland Wellness Center 237 Lookout Place Maitland\, FL 32751
UID:e.2138.4872
SEQUENCE:3
DTSTAMP:20260425T175836Z
URL:https://business.seminolebusiness.org/events/details/women-s-money-circle-4872
END:VEVENT

END:VCALENDAR
