BEGIN:VCALENDAR
VERSION:2.0
PRODID:-//ChamberMaster//Event Calendar 2.0//EN
METHOD:PUBLISH
X-PUBLISHED-TTL:P3D
REFRESH-INTERVAL:P3D
CALSCALE:GREGORIAN
BEGIN:VEVENT
DTSTART:20160719T213000Z
DTEND:20160719T233000Z
X-MICROSOFT-CDO-ALLDAYEVENT:FALSE
SUMMARY:"Women & Wine" Stress Management Event
DESCRIPTION:Join us for a "Women & Wine" Stress Management Evening.  Ms Shannon Campbell will be discussing "Taking the Stress out of Estate Planning" and Ms. Lilly Graziani will be sharing the "Five Healthy Ways to Manage Stress".  We will have free mini massages at the beginning of the event.  Enjoy wine pairings and hor d'oeuvres while meeting other professional business women.  Best Combination for Stress Relief "Wine\, Women & Wisdom"!
X-ALT-DESC;FMTTYPE=text/html:<div style="text-align: justify\;"><span style="color: rgb(165\, 42\, 42)\;"><span style="font-size: 18px\;">Join us for a &quot\;Women &amp\; Wine&quot\; Stress Management Evening. &nbsp\;Ms Shannon Campbell will be discussing &quot\;Taking the Stress out of Estate Planning&quot\; and Ms. Lilly Graziani will be sharing the &quot\;Five Healthy Ways to Manage Stress&quot\;. &nbsp\;We will have free mini massages at the beginning of the event. &nbsp\;Enjoy wine pairings and hor d&#39\;oeuvres while meeting other professional business women. &nbsp\;Best Combination for Stress Relief &quot\;Wine\, Women &amp\; Wisdom&quot\;!</span></span></div>\n
LOCATION:Blu on the Avenue 326 S. Park Ave. Winter Park\, FL 32789
UID:e.2138.4592
SEQUENCE:3
DTSTAMP:20260425T210721Z
URL:https://business.seminolebusiness.org/events/details/women-wine-stress-management-event-07-19-2016-4592
END:VEVENT

END:VCALENDAR
