BEGIN:VCALENDAR
VERSION:2.0
PRODID:-//ChamberMaster//Event Calendar 2.0//EN
METHOD:PUBLISH
X-PUBLISHED-TTL:P3D
REFRESH-INTERVAL:P3D
CALSCALE:GREGORIAN
BEGIN:VEVENT
DTSTART:20190523T230000Z
DTEND:20190524T010000Z
X-MICROSOFT-CDO-ALLDAYEVENT:FALSE
SUMMARY:Women Wine & Wellness
DESCRIPTION:Join us for HAPPY HOUR! Come join us for ladies night out. We will be having jewelry\, door prizes\, plenty of wine\, finger foods\, and more.\n\n\n\nInvite all your friends and family and enjoy a relaxing night!\n\n\n\nhttps://www.facebook.com/events/302890867071783/
X-ALT-DESC;FMTTYPE=text/html:Join us for HAPPY HOUR! Come join us for ladies night out. We will be having jewelry\, door prizes\, plenty of wine\, finger foods\, and more.<br />\n<br />\nInvite all your friends and family and enjoy a relaxing night!<br />\n<br />\n<a href="https://www.facebook.com/events/302890867071783/">https://www.facebook.com/events/302890867071783/</a><br />\n<br />\n&nbsp\;
LOCATION:172 Sausaltio Blvd. Casselberry\, FL 32707
UID:e.2138.15120
SEQUENCE:3
DTSTAMP:20260422T081300Z
URL:https://business.seminolebusiness.org/events/details/women-wine-wellness-05-23-2019-15120
END:VEVENT

END:VCALENDAR
