BEGIN:VCALENDAR
VERSION:2.0
PRODID:-//ChamberMaster//Event Calendar 2.0//EN
METHOD:PUBLISH
X-PUBLISHED-TTL:P3D
REFRESH-INTERVAL:P3D
CALSCALE:GREGORIAN
BEGIN:VEVENT
DTSTART:20180508T230000Z
DTEND:20180509T010000Z
X-MICROSOFT-CDO-ALLDAYEVENT:FALSE
SUMMARY:Women\, Wine & Wellness
DESCRIPTION:SEMINOLE WELLNESS is once again sponsoring this special 'Ladies Night Out' event!\n\n\n\nJoin us for a Fun filled night of Fashion\, Jewelry\, Health and Novelties... and of course Wine!\n\nVendor Prizes will be awarded along with several  raffles as well as support for Ribbon Riders\, a local Breast Cancer Support Charity.\n\n\n\nRSVP Today to 407-831-4357 with your number of friends joining you.
X-ALT-DESC;FMTTYPE=text/html:SEMINOLE WELLNESS is once again sponsoring this special &#39\;Ladies Night Out&#39\; event!<br />\n<br />\nJoin us for a Fun filled night of Fashion\, Jewelry\, Health and Novelties... and of course Wine!<br />\nVendor Prizes will be awarded along with several&nbsp\; raffles as well as support for Ribbon Riders\, a local Breast Cancer Support Charity.<br />\n<br />\nRSVP Today to 407-831-4357 with your number of friends joining you.<br />\n<br />\n&nbsp\;
LOCATION:SEMINOLE WELLNESS 172 Sausalito Blvd. asselberry\, FL 32707
UID:e.2138.8831
SEQUENCE:3
DTSTAMP:20260424T101922Z
URL:https://business.seminolebusiness.org/events/details/women-wine-wellness-8831
END:VEVENT

END:VCALENDAR
