BEGIN:VCALENDAR
VERSION:2.0
PRODID:-//ChamberMaster//Event Calendar 2.0//EN
METHOD:PUBLISH
X-PUBLISHED-TTL:P3D
REFRESH-INTERVAL:P3D
CALSCALE:GREGORIAN
BEGIN:VEVENT
DTSTART:20190509T153000Z
DTEND:20190509T183000Z
X-MICROSOFT-CDO-ALLDAYEVENT:FALSE
SUMMARY:Wood Geomatics (Land Surveying) Technology Day
DESCRIPTION:Please join us here at our Wood Altamonte Springs Office for our Technology Day.  We will be showcasing our capabilities for geomatic services through a Lunch and Learn presentation.  We will also have our different cutting edge technology availbe to test out and inspect\, including our mobile LiDAR Leica Geosystems\, Inc. Pegasus II Mapping System.
X-ALT-DESC;FMTTYPE=text/html:Please join us here at our Wood Altamonte Springs Office for our Technology Day.&nbsp\; We will be showcasing our capabilities for geomatic services through a Lunch and Learn presentation.&nbsp\; We will also have our different cutting edge technology availbe to test out and inspect\, including our mobile LiDAR Leica Geosystems\, Inc. Pegasus II Mapping System.
LOCATION:550 North Lake Boulevard Suite 1000 Altamonte Springs\, Florida 32701
UID:e.2138.15153
SEQUENCE:3
DTSTAMP:20260422T081406Z
URL:https://business.seminolebusiness.org/events/details/wood-geomatics-land-surveying-technology-day-15153
END:VEVENT

END:VCALENDAR
