BEGIN:VCALENDAR
VERSION:2.0
PRODID:-//ChamberMaster//Event Calendar 2.0//EN
METHOD:PUBLISH
X-PUBLISHED-TTL:P3D
REFRESH-INTERVAL:P3D
CALSCALE:GREGORIAN
BEGIN:VEVENT
DTSTART:20180308T233000Z
DTEND:20180309T013000Z
X-MICROSOFT-CDO-ALLDAYEVENT:FALSE
SUMMARY:Wood Sign paint party
DESCRIPTION:Looking for a FUN TIME OUT? Come paint a wood sign! We put together fresh wood signs\, you choose a design\, we cut your stencil\, you come paint! You choose your colors and everyone can paint a different design. Registration closes 4 days ahead\, to allow us time to prep for you. Great for all occasions and ages! We host open and private paint parties. Team building\, Holiday parties\, birthdays\, moms groups\, date night etc. Bring snacks and ANY BEVERAGE.
X-ALT-DESC;FMTTYPE=text/html:<span style="color: rgb(29\, 33\, 41)\; font-family: helvetica\,arial\,sans-serif\; font-size: 14px\; background-color: rgb(255\, 255\, 255)\;">Looking for a FUN TIME OUT? Come paint a wood sign! We put together fresh wood signs\, you choose a design\, we cut your stencil\, you come paint! You choose your colors and everyone can paint a different design. Registration closes 4 days ahead\, to allow us time to prep for you. Great for all occasions and ages! We host open and private paint parties. Team building\, Holiday parties\, birthdays\, moms groups\, date night etc. Bring snacks and ANY BEVERAGE.</span>
LOCATION:This and That Studio 300 Saint Laurent Street Suite 148 Longwood\,Fl. 32750
UID:e.2138.8491
SEQUENCE:3
DTSTAMP:20260424T131223Z
URL:https://business.seminolebusiness.org/events/details/wood-sign-paint-party-11-18-2017-8491
END:VEVENT

END:VCALENDAR
