BEGIN:VCALENDAR
VERSION:2.0
PRODID:-//ChamberMaster//Event Calendar 2.0//EN
METHOD:PUBLISH
X-PUBLISHED-TTL:P3D
REFRESH-INTERVAL:P3D
CALSCALE:GREGORIAN
BEGIN:VEVENT
DTSTART:20171102T223000Z
DTEND:20171103T010000Z
X-MICROSOFT-CDO-ALLDAYEVENT:FALSE
SUMMARY:Wood Sign paint party
DESCRIPTION:Looking for a FUN TIME OUT? Come paint a wood sign! We put together fresh wood signs\, you choose a design\, we cut your stencil\, you come paint! You choose your colors and everyone can paint a different design. Registration closes 4 days ahead for us to prep for you. Great for all occasions and ages! We host open and private paint parties. Team building\, birthdays\, moms groups\, date night etc. Bring snacks and ANY BEVERAGE please be responsible. Chamber members come check us out on November 2\, 2017 at 6:30 pm\, and receive $10. off your project! Go to www.thisandthatstudio.net and look for the Chamber Event. (Prices reflect the discount on this date only). You must register by 10/29/17\, so we can prepare your stencil.
X-ALT-DESC;FMTTYPE=text/html:<span style="background-color:rgb(255\, 255\, 255)\; color:rgb(29\, 33\, 41)\; font-family:helvetica\,arial\,sans-serif\; font-size:14px">Looking for a FUN TIME OUT? Come paint a wood sign! We put together fresh wood signs\, you choose a design\, we cut your stencil\, you come paint! You choose your colors and everyone can paint a different design. Registration closes 4 days ahead for us to prep for you. Great for all occasions and ages! We host open and private paint parties. Team building\, birthdays\, moms groups\, date night etc. Bring snacks and ANY BEVERAGE please be responsible. Chamber members come check us out on November 2\, 2017 at 6:30 pm\, and receive $10. off your project! Go to www.thisandthatstudio.net and look for the Chamber Event. (Prices reflect the discount on this date only). You must register by 10/29/17\, so we can prepare your stencil.</span>
LOCATION:This and That Studio 300 Saint Laurent Street Suite 148 Longwood\,Fl. 32750
UID:e.2138.8354
SEQUENCE:3
DTSTAMP:20260424T061735Z
URL:https://business.seminolebusiness.org/events/details/wood-sign-paint-party-8354
END:VEVENT

END:VCALENDAR
