BEGIN:VCALENDAR
VERSION:2.0
PRODID:-//ChamberMaster//Event Calendar 2.0//EN
METHOD:PUBLISH
X-PUBLISHED-TTL:P3D
REFRESH-INTERVAL:P3D
CALSCALE:GREGORIAN
BEGIN:VEVENT
DTSTART:20170610T140000Z
DTEND:20170610T190000Z
X-MICROSOFT-CDO-ALLDAYEVENT:FALSE
SUMMARY:World Oceans Day at the Central Florida Zoo & Botanical Gardens
DESCRIPTION:Come celebrate World Oceans Day at the Central Florida Zoo! You can be inspired to take action to protect marine life and their habitats through interactive games\, activities\, crafts\, and more. We all depend on our oceans\, so learn what you can do to help!
X-ALT-DESC;FMTTYPE=text/html:<span style="font-family:helvetica\,arial\,sans-serif\; font-size:15px">Come celebrate World Oceans Day at the Central Florida Zoo! You can be inspired to take action to protect marine life and their habitats through interactive games\, activities\, crafts\, and more. We all depend on our oceans\, so learn what you can do to help!</span>
LOCATION:The Central Florida Zoo and Botanical Gardens 3755 NW Hwy 17-92 Sanford\, FL 32771
UID:e.2138.6434
SEQUENCE:3
DTSTAMP:20260423T223455Z
URL:https://business.seminolebusiness.org/events/details/world-oceans-day-at-the-central-florida-zoo-botanical-gardens-6434
END:VEVENT

END:VCALENDAR
