BEGIN:VCALENDAR
VERSION:2.0
PRODID:-//ChamberMaster//Event Calendar 2.0//EN
METHOD:PUBLISH
X-PUBLISHED-TTL:P3D
REFRESH-INTERVAL:P3D
CALSCALE:GREGORIAN
BEGIN:VEVENT
DTSTART:20160924T140000Z
DTEND:20160924T190000Z
X-MICROSOFT-CDO-ALLDAYEVENT:FALSE
SUMMARY:World Rhino Day at the Central Florida Zoo
DESCRIPTION:Celebrate Jahi and PJ\, the Zoo's greater one-horned Indian rhinos\, as well as all five species around the world. Help support rhino conservation working to save these incredible animals from extinction by participating in enrichment making\, crafts\, games\, and have a chance to get up close to and even touch a rhino with our Rhino Encounter. This event is included in general Zoo admission\; additional fees may apply for certain activities. Please call 407.323.4450 ext. 127 for more information.
X-ALT-DESC;FMTTYPE=text/html:<span style="font-family: arial\,sans-serif\;">Celebrate Jahi and PJ\, the Zoo&rsquo\;s greater one-horned Indian rhinos\, as well as all five species around the world. Help support rhino conservation working to save these incredible animals from extinction by participating in enrichment making\, crafts\, games\, and have a chance to get up close to and even touch a rhino with our Rhino Encounter. <span style="color: rgb(34\, 30\, 31)\;">This event is included in general Zoo admission\; additional fees may apply for certain activities. Please call 407.323.4450 ext. 127 for more information.</span></span><br />\n&nbsp\;
LOCATION:Central Florida Zoo and Botanical Gardens 3755 NW Hwy 17-92 Sanford FL\, 32771
UID:e.2138.4608
SEQUENCE:3
DTSTAMP:20260425T181808Z
URL:https://business.seminolebusiness.org/events/details/world-rhino-day-at-the-central-florida-zoo-09-24-2016-4608
END:VEVENT

END:VCALENDAR
